BEGIN:VCALENDAR
VERSION:2.0
PRODID:PHP
METHOD:REQUEST
X-ORIGINAL-URL:http://rptfv.de/index.php/rptfv-liga/tabelle?task=veranstaltung_begegnungen_ical&id=90
X-WR-CALNAME;VALUE=TEXT:RPTFV Bezirksliga 2026
BEGIN:VEVENT
CLASS:PUBLIC
DTSTART:20260418T090000Z
DURATION:PT2H30M
STATUS:CONFIRMED
SUMMARY:MJC Tischfußball Trier 3 vs. Tischfußball Mannheim 3
DESCRIPTION:RPTFV Bezirksliga 2026 (1. Spieltag)\nErgebnis: 4:4 (11:10)
LOCATION:DGH Eckelsheim, Bellerkirchstr. 19, 55599 Eckelsheim
UID:SM-B2623@rptfv.de
PRIORITY:5
SEQUENCE:1
CATEGORIES:SPORT
DTSTAMP:20260425T131131
END:VEVENT
BEGIN:VEVENT
CLASS:PUBLIC
DTSTART:20260418T090000Z
DURATION:PT2H30M
STATUS:CONFIRMED
SUMMARY:SC Peritu Omnia vs. TFBS Koblenz 3
DESCRIPTION:RPTFV Bezirksliga 2026 (1. Spieltag)\nErgebnis: 2:6 (6:13)
LOCATION:DGH Eckelsheim, Bellerkirchstr. 19, 55599 Eckelsheim
UID:SM-B2624@rptfv.de
PRIORITY:5
SEQUENCE:1
CATEGORIES:SPORT
DTSTAMP:20260425T131131
END:VEVENT
BEGIN:VEVENT
CLASS:PUBLIC
DTSTART:20260418T090000Z
DURATION:PT2H30M
STATUS:CONFIRMED
SUMMARY:TFC Kaisersesch 3 vs. Borussia Eckelsheim 2
DESCRIPTION:RPTFV Bezirksliga 2026 (1. Spieltag)\nErgebnis: 5:3 (10:9)
LOCATION:DGH Eckelsheim, Bellerkirchstr. 19, 55599 Eckelsheim
UID:SM-B2625@rptfv.de
PRIORITY:5
SEQUENCE:1
CATEGORIES:SPORT
DTSTAMP:20260425T131131
END:VEVENT
BEGIN:VEVENT
CLASS:PUBLIC
DTSTART:20260418T113000Z
DURATION:PT2H30M
STATUS:CONFIRMED
SUMMARY:Borussia Eckelsheim 2 vs. Tischfußball Mannheim 3
DESCRIPTION:RPTFV Bezirksliga 2026 (1. Spieltag)\nErgebnis: 3:5 (8:11)
LOCATION:DGH Eckelsheim, Bellerkirchstr. 19, 55599 Eckelsheim
UID:SM-B2627@rptfv.de
PRIORITY:5
SEQUENCE:1
CATEGORIES:SPORT
DTSTAMP:20260425T131131
END:VEVENT
BEGIN:VEVENT
CLASS:PUBLIC
DTSTART:20260418T113000Z
DURATION:PT2H30M
STATUS:CONFIRMED
SUMMARY:MJC Tischfußball Trier 3 vs. SC Peritu Omnia
DESCRIPTION:RPTFV Bezirksliga 2026 (1. Spieltag)\nErgebnis: 7:1 (15:6)
LOCATION:DGH Eckelsheim, Bellerkirchstr. 19, 55599 Eckelsheim
UID:SM-B2626@rptfv.de
PRIORITY:5
SEQUENCE:1
CATEGORIES:SPORT
DTSTAMP:20260425T131131
END:VEVENT
BEGIN:VEVENT
CLASS:PUBLIC
DTSTART:20260418T113000Z
DURATION:PT2H30M
STATUS:CONFIRMED
SUMMARY:TFC Kaisersesch 3 vs. TFBS Koblenz 3
DESCRIPTION:RPTFV Bezirksliga 2026 (1. Spieltag)\nErgebnis: 2:6 (5:12)
LOCATION:DGH Eckelsheim, Bellerkirchstr. 19, 55599 Eckelsheim
UID:SM-B2628@rptfv.de
PRIORITY:5
SEQUENCE:1
CATEGORIES:SPORT
DTSTAMP:20260425T131131
END:VEVENT
BEGIN:VEVENT
CLASS:PUBLIC
DTSTART:20260418T140000Z
DURATION:PT2H30M
STATUS:CONFIRMED
SUMMARY:Borussia Eckelsheim 2 vs. SC Peritu Omnia
DESCRIPTION:RPTFV Bezirksliga 2026 (1. Spieltag)\nErgebnis: 3:5 (8:11)
LOCATION:DGH Eckelsheim, Bellerkirchstr. 19, 55599 Eckelsheim
UID:SM-B2631@rptfv.de
PRIORITY:5
SEQUENCE:1
CATEGORIES:SPORT
DTSTAMP:20260425T131131
END:VEVENT
BEGIN:VEVENT
CLASS:PUBLIC
DTSTART:20260418T140000Z
DURATION:PT2H30M
STATUS:CONFIRMED
SUMMARY:TFBS Koblenz 3 vs. MJC Tischfußball Trier 3
DESCRIPTION:RPTFV Bezirksliga 2026 (1. Spieltag)\nErgebnis: 5:3 (13:8)
LOCATION:DGH Eckelsheim, Bellerkirchstr. 19, 55599 Eckelsheim
UID:SM-B2629@rptfv.de
PRIORITY:5
SEQUENCE:1
CATEGORIES:SPORT
DTSTAMP:20260425T131131
END:VEVENT
BEGIN:VEVENT
CLASS:PUBLIC
DTSTART:20260418T140000Z
DURATION:PT2H30M
STATUS:CONFIRMED
SUMMARY:TFC Kaisersesch 3 vs. Tischfußball Mannheim 3
DESCRIPTION:RPTFV Bezirksliga 2026 (1. Spieltag)\nErgebnis: 1:7 (7:14)
LOCATION:DGH Eckelsheim, Bellerkirchstr. 19, 55599 Eckelsheim
UID:SM-B2630@rptfv.de
PRIORITY:5
SEQUENCE:1
CATEGORIES:SPORT
DTSTAMP:20260425T131131
END:VEVENT
BEGIN:VEVENT
CLASS:PUBLIC
DTSTART:20260517T090000Z
DURATION:PT2H30M
STATUS:CONFIRMED
SUMMARY:Borussia Eckelsheim 2 vs. SC Peritu Omnia
DESCRIPTION:RPTFV Bezirksliga 2026 (2. Spieltag)
LOCATION:Sportanlage am Römersprudel Trier, Peter-Scholzen-Str. 88, 54296 Trier
UID:SM-B2634@rptfv.de
PRIORITY:5
SEQUENCE:0
CATEGORIES:SPORT
DTSTAMP:20260425T131131
END:VEVENT
BEGIN:VEVENT
CLASS:PUBLIC
DTSTART:20260517T090000Z
DURATION:PT2H30M
STATUS:CONFIRMED
SUMMARY:TFBS Koblenz 3 vs. MJC Tischfußball Trier 3
DESCRIPTION:RPTFV Bezirksliga 2026 (2. Spieltag)
LOCATION:Sportanlage am Römersprudel Trier, Peter-Scholzen-Str. 88, 54296 Trier
UID:SM-B2632@rptfv.de
PRIORITY:5
SEQUENCE:0
CATEGORIES:SPORT
DTSTAMP:20260425T131131
END:VEVENT
BEGIN:VEVENT
CLASS:PUBLIC
DTSTART:20260517T090000Z
DURATION:PT2H30M
STATUS:CONFIRMED
SUMMARY:TFC Kaisersesch 3 vs. Tischfußball Mannheim 3
DESCRIPTION:RPTFV Bezirksliga 2026 (2. Spieltag)
LOCATION:Sportanlage am Römersprudel Trier, Peter-Scholzen-Str. 88, 54296 Trier
UID:SM-B2633@rptfv.de
PRIORITY:5
SEQUENCE:0
CATEGORIES:SPORT
DTSTAMP:20260425T131131
END:VEVENT
BEGIN:VEVENT
CLASS:PUBLIC
DTSTART:20260517T113000Z
DURATION:PT2H30M
STATUS:CONFIRMED
SUMMARY:MJC Tischfußball Trier 3 vs. Borussia Eckelsheim 2
DESCRIPTION:RPTFV Bezirksliga 2026 (2. Spieltag)
LOCATION:Sportanlage am Römersprudel Trier, Peter-Scholzen-Str. 88, 54296 Trier
UID:SM-B2635@rptfv.de
PRIORITY:5
SEQUENCE:0
CATEGORIES:SPORT
DTSTAMP:20260425T131131
END:VEVENT
BEGIN:VEVENT
CLASS:PUBLIC
DTSTART:20260517T113000Z
DURATION:PT2H30M
STATUS:CONFIRMED
SUMMARY:TFBS Koblenz 3 vs. Tischfußball Mannheim 3
DESCRIPTION:RPTFV Bezirksliga 2026 (2. Spieltag)
LOCATION:Sportanlage am Römersprudel Trier, Peter-Scholzen-Str. 88, 54296 Trier
UID:SM-B2637@rptfv.de
PRIORITY:5
SEQUENCE:0
CATEGORIES:SPORT
DTSTAMP:20260425T131131
END:VEVENT
BEGIN:VEVENT
CLASS:PUBLIC
DTSTART:20260517T113000Z
DURATION:PT2H30M
STATUS:CONFIRMED
SUMMARY:TFC Kaisersesch 3 vs. SC Peritu Omnia
DESCRIPTION:RPTFV Bezirksliga 2026 (2. Spieltag)
LOCATION:Sportanlage am Römersprudel Trier, Peter-Scholzen-Str. 88, 54296 Trier
UID:SM-B2636@rptfv.de
PRIORITY:5
SEQUENCE:0
CATEGORIES:SPORT
DTSTAMP:20260425T131131
END:VEVENT
BEGIN:VEVENT
CLASS:PUBLIC
DTSTART:20260517T140000Z
DURATION:PT2H30M
STATUS:CONFIRMED
SUMMARY:MJC Tischfußball Trier 3 vs. Tischfußball Mannheim 3
DESCRIPTION:RPTFV Bezirksliga 2026 (2. Spieltag)
LOCATION:Sportanlage am Römersprudel Trier, Peter-Scholzen-Str. 88, 54296 Trier
UID:SM-B2638@rptfv.de
PRIORITY:5
SEQUENCE:0
CATEGORIES:SPORT
DTSTAMP:20260425T131131
END:VEVENT
BEGIN:VEVENT
CLASS:PUBLIC
DTSTART:20260517T140000Z
DURATION:PT2H30M
STATUS:CONFIRMED
SUMMARY:SC Peritu Omnia vs. TFBS Koblenz 3
DESCRIPTION:RPTFV Bezirksliga 2026 (2. Spieltag)
LOCATION:Sportanlage am Römersprudel Trier, Peter-Scholzen-Str. 88, 54296 Trier
UID:SM-B2639@rptfv.de
PRIORITY:5
SEQUENCE:0
CATEGORIES:SPORT
DTSTAMP:20260425T131131
END:VEVENT
BEGIN:VEVENT
CLASS:PUBLIC
DTSTART:20260517T140000Z
DURATION:PT2H30M
STATUS:CONFIRMED
SUMMARY:TFC Kaisersesch 3 vs. Borussia Eckelsheim 2
DESCRIPTION:RPTFV Bezirksliga 2026 (2. Spieltag)
LOCATION:Sportanlage am Römersprudel Trier, Peter-Scholzen-Str. 88, 54296 Trier
UID:SM-B2640@rptfv.de
PRIORITY:5
SEQUENCE:0
CATEGORIES:SPORT
DTSTAMP:20260425T131131
END:VEVENT
BEGIN:VEVENT
CLASS:PUBLIC
DTSTART:20260607T090000Z
DURATION:PT2H30M
STATUS:CONFIRMED
SUMMARY:Borussia Eckelsheim 2 vs. MJC Tischfußball Trier 3
DESCRIPTION:RPTFV Bezirksliga 2026 (3. Spieltag)
LOCATION:Franziskushaus Mannheim, Speckweg 6, 68305 Mannheim
UID:SM-B2641@rptfv.de
PRIORITY:5
SEQUENCE:0
CATEGORIES:SPORT
DTSTAMP:20260425T131131
END:VEVENT
BEGIN:VEVENT
CLASS:PUBLIC
DTSTART:20260607T090000Z
DURATION:PT2H30M
STATUS:CONFIRMED
SUMMARY:SC Peritu Omnia vs. TFC Kaisersesch 3
DESCRIPTION:RPTFV Bezirksliga 2026 (3. Spieltag)
LOCATION:Franziskushaus Mannheim, Speckweg 6, 68305 Mannheim
UID:SM-B2642@rptfv.de
PRIORITY:5
SEQUENCE:0
CATEGORIES:SPORT
DTSTAMP:20260425T131131
END:VEVENT
BEGIN:VEVENT
CLASS:PUBLIC
DTSTART:20260607T090000Z
DURATION:PT2H30M
STATUS:CONFIRMED
SUMMARY:Tischfußball Mannheim 3 vs. TFBS Koblenz 3
DESCRIPTION:RPTFV Bezirksliga 2026 (3. Spieltag)
LOCATION:Franziskushaus Mannheim, Speckweg 6, 68305 Mannheim
UID:SM-B2643@rptfv.de
PRIORITY:5
SEQUENCE:0
CATEGORIES:SPORT
DTSTAMP:20260425T131131
END:VEVENT
BEGIN:VEVENT
CLASS:PUBLIC
DTSTART:20260607T113000Z
DURATION:PT2H30M
STATUS:CONFIRMED
SUMMARY:Borussia Eckelsheim 2 vs. TFBS Koblenz 3
DESCRIPTION:RPTFV Bezirksliga 2026 (3. Spieltag)
LOCATION:Franziskushaus Mannheim, Speckweg 6, 68305 Mannheim
UID:SM-B2645@rptfv.de
PRIORITY:5
SEQUENCE:0
CATEGORIES:SPORT
DTSTAMP:20260425T131131
END:VEVENT
BEGIN:VEVENT
CLASS:PUBLIC
DTSTART:20260607T113000Z
DURATION:PT2H30M
STATUS:CONFIRMED
SUMMARY:SC Peritu Omnia vs. Tischfußball Mannheim 3
DESCRIPTION:RPTFV Bezirksliga 2026 (3. Spieltag)
LOCATION:Franziskushaus Mannheim, Speckweg 6, 68305 Mannheim
UID:SM-B2646@rptfv.de
PRIORITY:5
SEQUENCE:0
CATEGORIES:SPORT
DTSTAMP:20260425T131131
END:VEVENT
BEGIN:VEVENT
CLASS:PUBLIC
DTSTART:20260607T113000Z
DURATION:PT2H30M
STATUS:CONFIRMED
SUMMARY:TFC Kaisersesch 3 vs. MJC Tischfußball Trier 3
DESCRIPTION:RPTFV Bezirksliga 2026 (3. Spieltag)
LOCATION:Franziskushaus Mannheim, Speckweg 6, 68305 Mannheim
UID:SM-B2644@rptfv.de
PRIORITY:5
SEQUENCE:0
CATEGORIES:SPORT
DTSTAMP:20260425T131131
END:VEVENT
BEGIN:VEVENT
CLASS:PUBLIC
DTSTART:20260607T140000Z
DURATION:PT2H30M
STATUS:CONFIRMED
SUMMARY:SC Peritu Omnia vs. MJC Tischfußball Trier 3
DESCRIPTION:RPTFV Bezirksliga 2026 (3. Spieltag)
LOCATION:Franziskushaus Mannheim, Speckweg 6, 68305 Mannheim
UID:SM-B2647@rptfv.de
PRIORITY:5
SEQUENCE:0
CATEGORIES:SPORT
DTSTAMP:20260425T131131
END:VEVENT
BEGIN:VEVENT
CLASS:PUBLIC
DTSTART:20260607T140000Z
DURATION:PT2H30M
STATUS:CONFIRMED
SUMMARY:TFBS Koblenz 3 vs. TFC Kaisersesch 3
DESCRIPTION:RPTFV Bezirksliga 2026 (3. Spieltag)
LOCATION:Franziskushaus Mannheim, Speckweg 6, 68305 Mannheim
UID:SM-B2649@rptfv.de
PRIORITY:5
SEQUENCE:0
CATEGORIES:SPORT
DTSTAMP:20260425T131131
END:VEVENT
BEGIN:VEVENT
CLASS:PUBLIC
DTSTART:20260607T140000Z
DURATION:PT2H30M
STATUS:CONFIRMED
SUMMARY:Tischfußball Mannheim 3 vs. Borussia Eckelsheim 2
DESCRIPTION:RPTFV Bezirksliga 2026 (3. Spieltag)
LOCATION:Franziskushaus Mannheim, Speckweg 6, 68305 Mannheim
UID:SM-B2648@rptfv.de
PRIORITY:5
SEQUENCE:0
CATEGORIES:SPORT
DTSTAMP:20260425T131131
END:VEVENT
BEGIN:VEVENT
CLASS:PUBLIC
DTSTART:20261004T090000Z
DURATION:PT2H30M
STATUS:CONFIRMED
SUMMARY:MJC Tischfußball Trier 3 vs. TFC Kaisersesch 3
DESCRIPTION:RPTFV Bezirksliga 2026 (4. Spieltag)
LOCATION:DGH Eckelsheim, Bellerkirchstr. 19, 55599 Eckelsheim
UID:SM-B2650@rptfv.de
PRIORITY:5
SEQUENCE:0
CATEGORIES:SPORT
DTSTAMP:20260425T131131
END:VEVENT
BEGIN:VEVENT
CLASS:PUBLIC
DTSTART:20261004T090000Z
DURATION:PT2H30M
STATUS:CONFIRMED
SUMMARY:TFBS Koblenz 3 vs. Borussia Eckelsheim 2
DESCRIPTION:RPTFV Bezirksliga 2026 (4. Spieltag)
LOCATION:DGH Eckelsheim, Bellerkirchstr. 19, 55599 Eckelsheim
UID:SM-B2651@rptfv.de
PRIORITY:5
SEQUENCE:0
CATEGORIES:SPORT
DTSTAMP:20260425T131131
END:VEVENT
BEGIN:VEVENT
CLASS:PUBLIC
DTSTART:20261004T090000Z
DURATION:PT2H30M
STATUS:CONFIRMED
SUMMARY:Tischfußball Mannheim 3 vs. SC Peritu Omnia
DESCRIPTION:RPTFV Bezirksliga 2026 (4. Spieltag)
LOCATION:DGH Eckelsheim, Bellerkirchstr. 19, 55599 Eckelsheim
UID:SM-B2652@rptfv.de
PRIORITY:5
SEQUENCE:0
CATEGORIES:SPORT
DTSTAMP:20260425T131131
END:VEVENT
BEGIN:VEVENT
CLASS:PUBLIC
DTSTART:20261004T113000Z
DURATION:PT2H30M
STATUS:CONFIRMED
SUMMARY:MJC Tischfußball Trier 3 vs. TFBS Koblenz 3
DESCRIPTION:RPTFV Bezirksliga 2026 (4. Spieltag)
LOCATION:DGH Eckelsheim, Bellerkirchstr. 19, 55599 Eckelsheim
UID:SM-B2653@rptfv.de
PRIORITY:5
SEQUENCE:0
CATEGORIES:SPORT
DTSTAMP:20260425T131131
END:VEVENT
BEGIN:VEVENT
CLASS:PUBLIC
DTSTART:20261004T113000Z
DURATION:PT2H30M
STATUS:CONFIRMED
SUMMARY:SC Peritu Omnia vs. Borussia Eckelsheim 2
DESCRIPTION:RPTFV Bezirksliga 2026 (4. Spieltag)
LOCATION:DGH Eckelsheim, Bellerkirchstr. 19, 55599 Eckelsheim
UID:SM-B2655@rptfv.de
PRIORITY:5
SEQUENCE:0
CATEGORIES:SPORT
DTSTAMP:20260425T131131
END:VEVENT
BEGIN:VEVENT
CLASS:PUBLIC
DTSTART:20261004T113000Z
DURATION:PT2H30M
STATUS:CONFIRMED
SUMMARY:Tischfußball Mannheim 3 vs. TFC Kaisersesch 3
DESCRIPTION:RPTFV Bezirksliga 2026 (4. Spieltag)
LOCATION:DGH Eckelsheim, Bellerkirchstr. 19, 55599 Eckelsheim
UID:SM-B2654@rptfv.de
PRIORITY:5
SEQUENCE:0
CATEGORIES:SPORT
DTSTAMP:20260425T131131
END:VEVENT
BEGIN:VEVENT
CLASS:PUBLIC
DTSTART:20261004T140000Z
DURATION:PT2H30M
STATUS:CONFIRMED
SUMMARY:Borussia Eckelsheim 2 vs. MJC Tischfußball Trier 3
DESCRIPTION:RPTFV Bezirksliga 2026 (4. Spieltag)
LOCATION:DGH Eckelsheim, Bellerkirchstr. 19, 55599 Eckelsheim
UID:SM-B2656@rptfv.de
PRIORITY:5
SEQUENCE:0
CATEGORIES:SPORT
DTSTAMP:20260425T131131
END:VEVENT
BEGIN:VEVENT
CLASS:PUBLIC
DTSTART:20261004T140000Z
DURATION:PT2H30M
STATUS:CONFIRMED
SUMMARY:SC Peritu Omnia vs. TFC Kaisersesch 3
DESCRIPTION:RPTFV Bezirksliga 2026 (4. Spieltag)
LOCATION:DGH Eckelsheim, Bellerkirchstr. 19, 55599 Eckelsheim
UID:SM-B2657@rptfv.de
PRIORITY:5
SEQUENCE:0
CATEGORIES:SPORT
DTSTAMP:20260425T131131
END:VEVENT
BEGIN:VEVENT
CLASS:PUBLIC
DTSTART:20261004T140000Z
DURATION:PT2H30M
STATUS:CONFIRMED
SUMMARY:Tischfußball Mannheim 3 vs. TFBS Koblenz 3
DESCRIPTION:RPTFV Bezirksliga 2026 (4. Spieltag)
LOCATION:DGH Eckelsheim, Bellerkirchstr. 19, 55599 Eckelsheim
UID:SM-B2658@rptfv.de
PRIORITY:5
SEQUENCE:0
CATEGORIES:SPORT
DTSTAMP:20260425T131131
END:VEVENT
BEGIN:VEVENT
CLASS:PUBLIC
DTSTART:20261024T090000Z
DURATION:PT2H30M
STATUS:CONFIRMED
SUMMARY:SC Peritu Omnia vs. MJC Tischfußball Trier 3
DESCRIPTION:RPTFV Bezirksliga 2026 (5. Spieltag)
LOCATION:Pommerbachschule Kaisersesch, Im Haag, 56759 Kaisersesch
UID:SM-B2659@rptfv.de
PRIORITY:5
SEQUENCE:0
CATEGORIES:SPORT
DTSTAMP:20260425T131131
END:VEVENT
BEGIN:VEVENT
CLASS:PUBLIC
DTSTART:20261024T090000Z
DURATION:PT2H30M
STATUS:CONFIRMED
SUMMARY:TFBS Koblenz 3 vs. TFC Kaisersesch 3
DESCRIPTION:RPTFV Bezirksliga 2026 (5. Spieltag)
LOCATION:Pommerbachschule Kaisersesch, Im Haag, 56759 Kaisersesch
UID:SM-B2661@rptfv.de
PRIORITY:5
SEQUENCE:0
CATEGORIES:SPORT
DTSTAMP:20260425T131131
END:VEVENT
BEGIN:VEVENT
CLASS:PUBLIC
DTSTART:20261024T090000Z
DURATION:PT2H30M
STATUS:CONFIRMED
SUMMARY:Tischfußball Mannheim 3 vs. Borussia Eckelsheim 2
DESCRIPTION:RPTFV Bezirksliga 2026 (5. Spieltag)
LOCATION:Pommerbachschule Kaisersesch, Im Haag, 56759 Kaisersesch
UID:SM-B2660@rptfv.de
PRIORITY:5
SEQUENCE:0
CATEGORIES:SPORT
DTSTAMP:20260425T131131
END:VEVENT
BEGIN:VEVENT
CLASS:PUBLIC
DTSTART:20261024T113000Z
DURATION:PT2H30M
STATUS:CONFIRMED
SUMMARY:Borussia Eckelsheim 2 vs. TFC Kaisersesch 3
DESCRIPTION:RPTFV Bezirksliga 2026 (5. Spieltag)
LOCATION:Pommerbachschule Kaisersesch, Im Haag, 56759 Kaisersesch
UID:SM-B2664@rptfv.de
PRIORITY:5
SEQUENCE:0
CATEGORIES:SPORT
DTSTAMP:20260425T131131
END:VEVENT
BEGIN:VEVENT
CLASS:PUBLIC
DTSTART:20261024T113000Z
DURATION:PT2H30M
STATUS:CONFIRMED
SUMMARY:TFBS Koblenz 3 vs. SC Peritu Omnia
DESCRIPTION:RPTFV Bezirksliga 2026 (5. Spieltag)
LOCATION:Pommerbachschule Kaisersesch, Im Haag, 56759 Kaisersesch
UID:SM-B2663@rptfv.de
PRIORITY:5
SEQUENCE:0
CATEGORIES:SPORT
DTSTAMP:20260425T131131
END:VEVENT
BEGIN:VEVENT
CLASS:PUBLIC
DTSTART:20261024T113000Z
DURATION:PT2H30M
STATUS:CONFIRMED
SUMMARY:Tischfußball Mannheim 3 vs. MJC Tischfußball Trier 3
DESCRIPTION:RPTFV Bezirksliga 2026 (5. Spieltag)
LOCATION:Pommerbachschule Kaisersesch, Im Haag, 56759 Kaisersesch
UID:SM-B2662@rptfv.de
PRIORITY:5
SEQUENCE:0
CATEGORIES:SPORT
DTSTAMP:20260425T131131
END:VEVENT
BEGIN:VEVENT
CLASS:PUBLIC
DTSTART:20261024T140000Z
DURATION:PT2H30M
STATUS:CONFIRMED
SUMMARY:MJC Tischfußball Trier 3 vs. TFC Kaisersesch 3
DESCRIPTION:RPTFV Bezirksliga 2026 (5. Spieltag)
LOCATION:Pommerbachschule Kaisersesch, Im Haag, 56759 Kaisersesch
UID:SM-B2665@rptfv.de
PRIORITY:5
SEQUENCE:0
CATEGORIES:SPORT
DTSTAMP:20260425T131131
END:VEVENT
BEGIN:VEVENT
CLASS:PUBLIC
DTSTART:20261024T140000Z
DURATION:PT2H30M
STATUS:CONFIRMED
SUMMARY:TFBS Koblenz 3 vs. Borussia Eckelsheim 2
DESCRIPTION:RPTFV Bezirksliga 2026 (5. Spieltag)
LOCATION:Pommerbachschule Kaisersesch, Im Haag, 56759 Kaisersesch
UID:SM-B2667@rptfv.de
PRIORITY:5
SEQUENCE:0
CATEGORIES:SPORT
DTSTAMP:20260425T131131
END:VEVENT
BEGIN:VEVENT
CLASS:PUBLIC
DTSTART:20261024T140000Z
DURATION:PT2H30M
STATUS:CONFIRMED
SUMMARY:Tischfußball Mannheim 3 vs. SC Peritu Omnia
DESCRIPTION:RPTFV Bezirksliga 2026 (5. Spieltag)
LOCATION:Pommerbachschule Kaisersesch, Im Haag, 56759 Kaisersesch
UID:SM-B2666@rptfv.de
PRIORITY:5
SEQUENCE:0
CATEGORIES:SPORT
DTSTAMP:20260425T131131
END:VEVENT
END:VCALENDAR
