BEGIN:VCALENDAR
VERSION:2.0
PRODID:PHP
METHOD:REQUEST
X-ORIGINAL-URL:http://rptfv.de/index.php/rptfv-liga/spielorte-der-vereine?task=spielort_begegnungen_ical&id=37
X-WR-CALNAME;VALUE=TEXT:Pommerbachschule Kaisersesch
BEGIN:VEVENT
CLASS:PUBLIC
DTSTART:20261024T090000Z
DURATION:PT2H30M
STATUS:CONFIRMED
SUMMARY:1. Kicker Club Kaiserslautern 2 vs. Altricher Soccer Club
DESCRIPTION:RPTFV Landesliga 2026 (6. Spieltag)
LOCATION:Pommerbachschule Kaisersesch, Im Haag, 56759 Kaisersesch
UID:SM-B2518@rptfv.de
PRIORITY:5
SEQUENCE:0
CATEGORIES:SPORT
DTSTAMP:20260425T132137
BEGIN:VALARM
ACTION:DISPLAY
TRIGGER:-PT2H
END:VALARM
END:VEVENT
BEGIN:VEVENT
CLASS:PUBLIC
DTSTART:20261024T090000Z
DURATION:PT2H30M
STATUS:CONFIRMED
SUMMARY:1. Kicker Club Kaiserslautern 3 vs. Borussia Eckelsheim 1
DESCRIPTION:RPTFV Verbandsliga 2026 (6. Spieltag)
LOCATION:Pommerbachschule Kaisersesch, Im Haag, 56759 Kaisersesch
UID:SM-B2608@rptfv.de
PRIORITY:5
SEQUENCE:0
CATEGORIES:SPORT
DTSTAMP:20260425T132137
BEGIN:VALARM
ACTION:DISPLAY
TRIGGER:-PT2H
END:VALARM
END:VEVENT
BEGIN:VEVENT
CLASS:PUBLIC
DTSTART:20261024T090000Z
DURATION:PT2H30M
STATUS:CONFIRMED
SUMMARY:1. Kicker Club Kaiserslautern 4 vs. 1. Altriper-Kicker-Club
DESCRIPTION:RPTFV Verbandsliga 2026 (6. Spieltag)
LOCATION:Pommerbachschule Kaisersesch, Im Haag, 56759 Kaisersesch
UID:SM-B2609@rptfv.de
PRIORITY:5
SEQUENCE:0
CATEGORIES:SPORT
DTSTAMP:20260425T132137
BEGIN:VALARM
ACTION:DISPLAY
TRIGGER:-PT2H
END:VALARM
END:VEVENT
BEGIN:VEVENT
CLASS:PUBLIC
DTSTART:20261024T090000Z
DURATION:PT2H30M
STATUS:CONFIRMED
SUMMARY:Atletico Wahlrod 2 vs. KickNix Trier
DESCRIPTION:RPTFV Verbandsliga 2026 (6. Spieltag)
LOCATION:Pommerbachschule Kaisersesch, Im Haag, 56759 Kaisersesch
UID:SM-B2610@rptfv.de
PRIORITY:5
SEQUENCE:0
CATEGORIES:SPORT
DTSTAMP:20260425T132137
BEGIN:VALARM
ACTION:DISPLAY
TRIGGER:-PT2H
END:VALARM
END:VEVENT
BEGIN:VEVENT
CLASS:PUBLIC
DTSTART:20261024T090000Z
DURATION:PT2H30M
STATUS:CONFIRMED
SUMMARY:Golden Puppets vs. Atletico Wahlrod 1
DESCRIPTION:RPTFV Verbandsliga 2026 (6. Spieltag)
LOCATION:Pommerbachschule Kaisersesch, Im Haag, 56759 Kaisersesch
UID:SM-B2611@rptfv.de
PRIORITY:5
SEQUENCE:0
CATEGORIES:SPORT
DTSTAMP:20260425T132137
BEGIN:VALARM
ACTION:DISPLAY
TRIGGER:-PT2H
END:VALARM
END:VEVENT
BEGIN:VEVENT
CLASS:PUBLIC
DTSTART:20261024T090000Z
DURATION:PT2H30M
STATUS:CONFIRMED
SUMMARY:MJC Tischfußball Trier 1 vs. Wasgau Shooters Pirmasens
DESCRIPTION:RPTFV Landesliga 2026 (6. Spieltag)
LOCATION:Pommerbachschule Kaisersesch, Im Haag, 56759 Kaisersesch
UID:SM-B2521@rptfv.de
PRIORITY:5
SEQUENCE:0
CATEGORIES:SPORT
DTSTAMP:20260425T132137
BEGIN:VALARM
ACTION:DISPLAY
TRIGGER:-PT2H
END:VALARM
END:VEVENT
BEGIN:VEVENT
CLASS:PUBLIC
DTSTART:20261024T090000Z
DURATION:PT2H30M
STATUS:CONFIRMED
SUMMARY:MJC Tischfußball Trier 2 vs. TFBS Koblenz 2
DESCRIPTION:RPTFV Landesliga 2026 (6. Spieltag)
LOCATION:Pommerbachschule Kaisersesch, Im Haag, 56759 Kaisersesch
UID:SM-B2522@rptfv.de
PRIORITY:5
SEQUENCE:0
CATEGORIES:SPORT
DTSTAMP:20260425T132137
BEGIN:VALARM
ACTION:DISPLAY
TRIGGER:-PT2H
END:VALARM
END:VEVENT
BEGIN:VEVENT
CLASS:PUBLIC
DTSTART:20261024T090000Z
DURATION:PT2H30M
STATUS:CONFIRMED
SUMMARY:SC Peritu Omnia vs. MJC Tischfußball Trier 3
DESCRIPTION:RPTFV Bezirksliga 2026 (5. Spieltag)
LOCATION:Pommerbachschule Kaisersesch, Im Haag, 56759 Kaisersesch
UID:SM-B2659@rptfv.de
PRIORITY:5
SEQUENCE:0
CATEGORIES:SPORT
DTSTAMP:20260425T132137
BEGIN:VALARM
ACTION:DISPLAY
TRIGGER:-PT2H
END:VALARM
END:VEVENT
BEGIN:VEVENT
CLASS:PUBLIC
DTSTART:20261024T090000Z
DURATION:PT2H30M
STATUS:CONFIRMED
SUMMARY:TFBS Koblenz 3 vs. TFC Kaisersesch 3
DESCRIPTION:RPTFV Bezirksliga 2026 (5. Spieltag)
LOCATION:Pommerbachschule Kaisersesch, Im Haag, 56759 Kaisersesch
UID:SM-B2661@rptfv.de
PRIORITY:5
SEQUENCE:0
CATEGORIES:SPORT
DTSTAMP:20260425T132137
BEGIN:VALARM
ACTION:DISPLAY
TRIGGER:-PT2H
END:VALARM
END:VEVENT
BEGIN:VEVENT
CLASS:PUBLIC
DTSTART:20261024T090000Z
DURATION:PT2H30M
STATUS:CONFIRMED
SUMMARY:TFC Kaisersesch 2 vs. Machete Mainz
DESCRIPTION:RPTFV Verbandsliga 2026 (6. Spieltag)
LOCATION:Pommerbachschule Kaisersesch, Im Haag, 56759 Kaisersesch
UID:SM-B2612@rptfv.de
PRIORITY:5
SEQUENCE:0
CATEGORIES:SPORT
DTSTAMP:20260425T132137
BEGIN:VALARM
ACTION:DISPLAY
TRIGGER:-PT2H
END:VALARM
END:VEVENT
BEGIN:VEVENT
CLASS:PUBLIC
DTSTART:20261024T090000Z
DURATION:PT2H30M
STATUS:CONFIRMED
SUMMARY:Tischfußball Mannheim 1 vs. DJK Andernach
DESCRIPTION:RPTFV Landesliga 2026 (6. Spieltag)
LOCATION:Pommerbachschule Kaisersesch, Im Haag, 56759 Kaisersesch
UID:SM-B2519@rptfv.de
PRIORITY:5
SEQUENCE:0
CATEGORIES:SPORT
DTSTAMP:20260425T132137
BEGIN:VALARM
ACTION:DISPLAY
TRIGGER:-PT2H
END:VALARM
END:VEVENT
BEGIN:VEVENT
CLASS:PUBLIC
DTSTART:20261024T090000Z
DURATION:PT2H30M
STATUS:CONFIRMED
SUMMARY:Tischfußball Mannheim 2 vs. TFC Kaisersesch 1
DESCRIPTION:RPTFV Landesliga 2026 (6. Spieltag)
LOCATION:Pommerbachschule Kaisersesch, Im Haag, 56759 Kaisersesch
UID:SM-B2520@rptfv.de
PRIORITY:5
SEQUENCE:0
CATEGORIES:SPORT
DTSTAMP:20260425T132137
BEGIN:VALARM
ACTION:DISPLAY
TRIGGER:-PT2H
END:VALARM
END:VEVENT
BEGIN:VEVENT
CLASS:PUBLIC
DTSTART:20261024T090000Z
DURATION:PT2H30M
STATUS:CONFIRMED
SUMMARY:Tischfußball Mannheim 3 vs. Borussia Eckelsheim 2
DESCRIPTION:RPTFV Bezirksliga 2026 (5. Spieltag)
LOCATION:Pommerbachschule Kaisersesch, Im Haag, 56759 Kaisersesch
UID:SM-B2660@rptfv.de
PRIORITY:5
SEQUENCE:0
CATEGORIES:SPORT
DTSTAMP:20260425T132137
BEGIN:VALARM
ACTION:DISPLAY
TRIGGER:-PT2H
END:VALARM
END:VEVENT
BEGIN:VEVENT
CLASS:PUBLIC
DTSTART:20261024T113000Z
DURATION:PT2H30M
STATUS:CONFIRMED
SUMMARY:Atletico Wahlrod 1 vs. 1. Altriper-Kicker-Club
DESCRIPTION:RPTFV Verbandsliga 2026 (6. Spieltag)
LOCATION:Pommerbachschule Kaisersesch, Im Haag, 56759 Kaisersesch
UID:SM-B2614@rptfv.de
PRIORITY:5
SEQUENCE:0
CATEGORIES:SPORT
DTSTAMP:20260425T132137
BEGIN:VALARM
ACTION:DISPLAY
TRIGGER:-PT2H
END:VALARM
END:VEVENT
BEGIN:VEVENT
CLASS:PUBLIC
DTSTART:20261024T113000Z
DURATION:PT2H30M
STATUS:CONFIRMED
SUMMARY:Atletico Wahlrod 2 vs. 1. Kicker Club Kaiserslautern 3
DESCRIPTION:RPTFV Verbandsliga 2026 (6. Spieltag)
LOCATION:Pommerbachschule Kaisersesch, Im Haag, 56759 Kaisersesch
UID:SM-B2615@rptfv.de
PRIORITY:5
SEQUENCE:0
CATEGORIES:SPORT
DTSTAMP:20260425T132137
BEGIN:VALARM
ACTION:DISPLAY
TRIGGER:-PT2H
END:VALARM
END:VEVENT
BEGIN:VEVENT
CLASS:PUBLIC
DTSTART:20261024T113000Z
DURATION:PT2H30M
STATUS:CONFIRMED
SUMMARY:Borussia Eckelsheim 2 vs. TFC Kaisersesch 3
DESCRIPTION:RPTFV Bezirksliga 2026 (5. Spieltag)
LOCATION:Pommerbachschule Kaisersesch, Im Haag, 56759 Kaisersesch
UID:SM-B2664@rptfv.de
PRIORITY:5
SEQUENCE:0
CATEGORIES:SPORT
DTSTAMP:20260425T132137
BEGIN:VALARM
ACTION:DISPLAY
TRIGGER:-PT2H
END:VALARM
END:VEVENT
BEGIN:VEVENT
CLASS:PUBLIC
DTSTART:20261024T113000Z
DURATION:PT2H30M
STATUS:CONFIRMED
SUMMARY:Golden Puppets vs. Machete Mainz
DESCRIPTION:RPTFV Verbandsliga 2026 (6. Spieltag)
LOCATION:Pommerbachschule Kaisersesch, Im Haag, 56759 Kaisersesch
UID:SM-B2616@rptfv.de
PRIORITY:5
SEQUENCE:0
CATEGORIES:SPORT
DTSTAMP:20260425T132137
BEGIN:VALARM
ACTION:DISPLAY
TRIGGER:-PT2H
END:VALARM
END:VEVENT
BEGIN:VEVENT
CLASS:PUBLIC
DTSTART:20261024T113000Z
DURATION:PT2H30M
STATUS:CONFIRMED
SUMMARY:KickNix Trier vs. Borussia Eckelsheim 1
DESCRIPTION:RPTFV Verbandsliga 2026 (6. Spieltag)
LOCATION:Pommerbachschule Kaisersesch, Im Haag, 56759 Kaisersesch
UID:SM-B2613@rptfv.de
PRIORITY:5
SEQUENCE:0
CATEGORIES:SPORT
DTSTAMP:20260425T132137
BEGIN:VALARM
ACTION:DISPLAY
TRIGGER:-PT2H
END:VALARM
END:VEVENT
BEGIN:VEVENT
CLASS:PUBLIC
DTSTART:20261024T113000Z
DURATION:PT2H30M
STATUS:CONFIRMED
SUMMARY:MJC Tischfußball Trier 1 vs. Tischfußball Mannheim 1
DESCRIPTION:RPTFV Landesliga 2026 (6. Spieltag)
LOCATION:Pommerbachschule Kaisersesch, Im Haag, 56759 Kaisersesch
UID:SM-B2526@rptfv.de
PRIORITY:5
SEQUENCE:0
CATEGORIES:SPORT
DTSTAMP:20260425T132137
BEGIN:VALARM
ACTION:DISPLAY
TRIGGER:-PT2H
END:VALARM
END:VEVENT
BEGIN:VEVENT
CLASS:PUBLIC
DTSTART:20261024T113000Z
DURATION:PT2H30M
STATUS:CONFIRMED
SUMMARY:MJC Tischfußball Trier 2 vs. 1. Kicker Club Kaiserslautern 2
DESCRIPTION:RPTFV Landesliga 2026 (6. Spieltag)
LOCATION:Pommerbachschule Kaisersesch, Im Haag, 56759 Kaisersesch
UID:SM-B2527@rptfv.de
PRIORITY:5
SEQUENCE:0
CATEGORIES:SPORT
DTSTAMP:20260425T132137
BEGIN:VALARM
ACTION:DISPLAY
TRIGGER:-PT2H
END:VALARM
END:VEVENT
BEGIN:VEVENT
CLASS:PUBLIC
DTSTART:20261024T113000Z
DURATION:PT2H30M
STATUS:CONFIRMED
SUMMARY:TFBS Koblenz 2 vs. Altricher Soccer Club
DESCRIPTION:RPTFV Landesliga 2026 (6. Spieltag)
LOCATION:Pommerbachschule Kaisersesch, Im Haag, 56759 Kaisersesch
UID:SM-B2523@rptfv.de
PRIORITY:5
SEQUENCE:0
CATEGORIES:SPORT
DTSTAMP:20260425T132137
BEGIN:VALARM
ACTION:DISPLAY
TRIGGER:-PT2H
END:VALARM
END:VEVENT
BEGIN:VEVENT
CLASS:PUBLIC
DTSTART:20261024T113000Z
DURATION:PT2H30M
STATUS:CONFIRMED
SUMMARY:TFBS Koblenz 3 vs. SC Peritu Omnia
DESCRIPTION:RPTFV Bezirksliga 2026 (5. Spieltag)
LOCATION:Pommerbachschule Kaisersesch, Im Haag, 56759 Kaisersesch
UID:SM-B2663@rptfv.de
PRIORITY:5
SEQUENCE:0
CATEGORIES:SPORT
DTSTAMP:20260425T132137
BEGIN:VALARM
ACTION:DISPLAY
TRIGGER:-PT2H
END:VALARM
END:VEVENT
BEGIN:VEVENT
CLASS:PUBLIC
DTSTART:20261024T113000Z
DURATION:PT2H30M
STATUS:CONFIRMED
SUMMARY:TFC Kaisersesch 2 vs. 1. Kicker Club Kaiserslautern 4
DESCRIPTION:RPTFV Verbandsliga 2026 (6. Spieltag)
LOCATION:Pommerbachschule Kaisersesch, Im Haag, 56759 Kaisersesch
UID:SM-B2617@rptfv.de
PRIORITY:5
SEQUENCE:0
CATEGORIES:SPORT
DTSTAMP:20260425T132137
BEGIN:VALARM
ACTION:DISPLAY
TRIGGER:-PT2H
END:VALARM
END:VEVENT
BEGIN:VEVENT
CLASS:PUBLIC
DTSTART:20261024T113000Z
DURATION:PT2H30M
STATUS:CONFIRMED
SUMMARY:Tischfußball Mannheim 2 vs. DJK Andernach
DESCRIPTION:RPTFV Landesliga 2026 (6. Spieltag)
LOCATION:Pommerbachschule Kaisersesch, Im Haag, 56759 Kaisersesch
UID:SM-B2524@rptfv.de
PRIORITY:5
SEQUENCE:0
CATEGORIES:SPORT
DTSTAMP:20260425T132137
BEGIN:VALARM
ACTION:DISPLAY
TRIGGER:-PT2H
END:VALARM
END:VEVENT
BEGIN:VEVENT
CLASS:PUBLIC
DTSTART:20261024T113000Z
DURATION:PT2H30M
STATUS:CONFIRMED
SUMMARY:Tischfußball Mannheim 3 vs. MJC Tischfußball Trier 3
DESCRIPTION:RPTFV Bezirksliga 2026 (5. Spieltag)
LOCATION:Pommerbachschule Kaisersesch, Im Haag, 56759 Kaisersesch
UID:SM-B2662@rptfv.de
PRIORITY:5
SEQUENCE:0
CATEGORIES:SPORT
DTSTAMP:20260425T132137
BEGIN:VALARM
ACTION:DISPLAY
TRIGGER:-PT2H
END:VALARM
END:VEVENT
BEGIN:VEVENT
CLASS:PUBLIC
DTSTART:20261024T113000Z
DURATION:PT2H30M
STATUS:CONFIRMED
SUMMARY:Wasgau Shooters Pirmasens vs. TFC Kaisersesch 1
DESCRIPTION:RPTFV Landesliga 2026 (6. Spieltag)
LOCATION:Pommerbachschule Kaisersesch, Im Haag, 56759 Kaisersesch
UID:SM-B2525@rptfv.de
PRIORITY:5
SEQUENCE:0
CATEGORIES:SPORT
DTSTAMP:20260425T132137
BEGIN:VALARM
ACTION:DISPLAY
TRIGGER:-PT2H
END:VALARM
END:VEVENT
BEGIN:VEVENT
CLASS:PUBLIC
DTSTART:20261024T140000Z
DURATION:PT2H30M
STATUS:CONFIRMED
SUMMARY:Atletico Wahlrod 2 vs. Borussia Eckelsheim 1
DESCRIPTION:RPTFV Verbandsliga 2026 (6. Spieltag)
LOCATION:Pommerbachschule Kaisersesch, Im Haag, 56759 Kaisersesch
UID:SM-B2619@rptfv.de
PRIORITY:5
SEQUENCE:0
CATEGORIES:SPORT
DTSTAMP:20260425T132137
BEGIN:VALARM
ACTION:DISPLAY
TRIGGER:-PT2H
END:VALARM
END:VEVENT
BEGIN:VEVENT
CLASS:PUBLIC
DTSTART:20261024T140000Z
DURATION:PT2H30M
STATUS:CONFIRMED
SUMMARY:Golden Puppets vs. 1. Kicker Club Kaiserslautern 4
DESCRIPTION:RPTFV Verbandsliga 2026 (6. Spieltag)
LOCATION:Pommerbachschule Kaisersesch, Im Haag, 56759 Kaisersesch
UID:SM-B2621@rptfv.de
PRIORITY:5
SEQUENCE:0
CATEGORIES:SPORT
DTSTAMP:20260425T132137
BEGIN:VALARM
ACTION:DISPLAY
TRIGGER:-PT2H
END:VALARM
END:VEVENT
BEGIN:VEVENT
CLASS:PUBLIC
DTSTART:20261024T140000Z
DURATION:PT2H30M
STATUS:CONFIRMED
SUMMARY:KickNix Trier vs. 1. Kicker Club Kaiserslautern 3
DESCRIPTION:RPTFV Verbandsliga 2026 (6. Spieltag)
LOCATION:Pommerbachschule Kaisersesch, Im Haag, 56759 Kaisersesch
UID:SM-B2618@rptfv.de
PRIORITY:5
SEQUENCE:0
CATEGORIES:SPORT
DTSTAMP:20260425T132137
BEGIN:VALARM
ACTION:DISPLAY
TRIGGER:-PT2H
END:VALARM
END:VEVENT
BEGIN:VEVENT
CLASS:PUBLIC
DTSTART:20261024T140000Z
DURATION:PT2H30M
STATUS:CONFIRMED
SUMMARY:Machete Mainz vs. 1. Altriper-Kicker-Club
DESCRIPTION:RPTFV Verbandsliga 2026 (6. Spieltag)
LOCATION:Pommerbachschule Kaisersesch, Im Haag, 56759 Kaisersesch
UID:SM-B2620@rptfv.de
PRIORITY:5
SEQUENCE:0
CATEGORIES:SPORT
DTSTAMP:20260425T132137
BEGIN:VALARM
ACTION:DISPLAY
TRIGGER:-PT2H
END:VALARM
END:VEVENT
BEGIN:VEVENT
CLASS:PUBLIC
DTSTART:20261024T140000Z
DURATION:PT2H30M
STATUS:CONFIRMED
SUMMARY:MJC Tischfußball Trier 1 vs. Tischfußball Mannheim 2
DESCRIPTION:RPTFV Landesliga 2026 (6. Spieltag)
LOCATION:Pommerbachschule Kaisersesch, Im Haag, 56759 Kaisersesch
UID:SM-B2531@rptfv.de
PRIORITY:5
SEQUENCE:0
CATEGORIES:SPORT
DTSTAMP:20260425T132137
BEGIN:VALARM
ACTION:DISPLAY
TRIGGER:-PT2H
END:VALARM
END:VEVENT
BEGIN:VEVENT
CLASS:PUBLIC
DTSTART:20261024T140000Z
DURATION:PT2H30M
STATUS:CONFIRMED
SUMMARY:MJC Tischfußball Trier 2 vs. Altricher Soccer Club
DESCRIPTION:RPTFV Landesliga 2026 (6. Spieltag)
LOCATION:Pommerbachschule Kaisersesch, Im Haag, 56759 Kaisersesch
UID:SM-B2532@rptfv.de
PRIORITY:5
SEQUENCE:0
CATEGORIES:SPORT
DTSTAMP:20260425T132137
BEGIN:VALARM
ACTION:DISPLAY
TRIGGER:-PT2H
END:VALARM
END:VEVENT
BEGIN:VEVENT
CLASS:PUBLIC
DTSTART:20261024T140000Z
DURATION:PT2H30M
STATUS:CONFIRMED
SUMMARY:MJC Tischfußball Trier 3 vs. TFC Kaisersesch 3
DESCRIPTION:RPTFV Bezirksliga 2026 (5. Spieltag)
LOCATION:Pommerbachschule Kaisersesch, Im Haag, 56759 Kaisersesch
UID:SM-B2665@rptfv.de
PRIORITY:5
SEQUENCE:0
CATEGORIES:SPORT
DTSTAMP:20260425T132137
BEGIN:VALARM
ACTION:DISPLAY
TRIGGER:-PT2H
END:VALARM
END:VEVENT
BEGIN:VEVENT
CLASS:PUBLIC
DTSTART:20261024T140000Z
DURATION:PT2H30M
STATUS:CONFIRMED
SUMMARY:TFBS Koblenz 2 vs. 1. Kicker Club Kaiserslautern 2
DESCRIPTION:RPTFV Landesliga 2026 (6. Spieltag)
LOCATION:Pommerbachschule Kaisersesch, Im Haag, 56759 Kaisersesch
UID:SM-B2528@rptfv.de
PRIORITY:5
SEQUENCE:0
CATEGORIES:SPORT
DTSTAMP:20260425T132137
BEGIN:VALARM
ACTION:DISPLAY
TRIGGER:-PT2H
END:VALARM
END:VEVENT
BEGIN:VEVENT
CLASS:PUBLIC
DTSTART:20261024T140000Z
DURATION:PT2H30M
STATUS:CONFIRMED
SUMMARY:TFBS Koblenz 3 vs. Borussia Eckelsheim 2
DESCRIPTION:RPTFV Bezirksliga 2026 (5. Spieltag)
LOCATION:Pommerbachschule Kaisersesch, Im Haag, 56759 Kaisersesch
UID:SM-B2667@rptfv.de
PRIORITY:5
SEQUENCE:0
CATEGORIES:SPORT
DTSTAMP:20260425T132137
BEGIN:VALARM
ACTION:DISPLAY
TRIGGER:-PT2H
END:VALARM
END:VEVENT
BEGIN:VEVENT
CLASS:PUBLIC
DTSTART:20261024T140000Z
DURATION:PT2H30M
STATUS:CONFIRMED
SUMMARY:TFC Kaisersesch 2 vs. Atletico Wahlrod 1
DESCRIPTION:RPTFV Verbandsliga 2026 (6. Spieltag)
LOCATION:Pommerbachschule Kaisersesch, Im Haag, 56759 Kaisersesch
UID:SM-B2622@rptfv.de
PRIORITY:5
SEQUENCE:0
CATEGORIES:SPORT
DTSTAMP:20260425T132137
BEGIN:VALARM
ACTION:DISPLAY
TRIGGER:-PT2H
END:VALARM
END:VEVENT
BEGIN:VEVENT
CLASS:PUBLIC
DTSTART:20261024T140000Z
DURATION:PT2H30M
STATUS:CONFIRMED
SUMMARY:Tischfußball Mannheim 1 vs. TFC Kaisersesch 1
DESCRIPTION:RPTFV Landesliga 2026 (6. Spieltag)
LOCATION:Pommerbachschule Kaisersesch, Im Haag, 56759 Kaisersesch
UID:SM-B2529@rptfv.de
PRIORITY:5
SEQUENCE:0
CATEGORIES:SPORT
DTSTAMP:20260425T132137
BEGIN:VALARM
ACTION:DISPLAY
TRIGGER:-PT2H
END:VALARM
END:VEVENT
BEGIN:VEVENT
CLASS:PUBLIC
DTSTART:20261024T140000Z
DURATION:PT2H30M
STATUS:CONFIRMED
SUMMARY:Tischfußball Mannheim 3 vs. SC Peritu Omnia
DESCRIPTION:RPTFV Bezirksliga 2026 (5. Spieltag)
LOCATION:Pommerbachschule Kaisersesch, Im Haag, 56759 Kaisersesch
UID:SM-B2666@rptfv.de
PRIORITY:5
SEQUENCE:0
CATEGORIES:SPORT
DTSTAMP:20260425T132137
BEGIN:VALARM
ACTION:DISPLAY
TRIGGER:-PT2H
END:VALARM
END:VEVENT
BEGIN:VEVENT
CLASS:PUBLIC
DTSTART:20261024T140000Z
DURATION:PT2H30M
STATUS:CONFIRMED
SUMMARY:Wasgau Shooters Pirmasens vs. DJK Andernach
DESCRIPTION:RPTFV Landesliga 2026 (6. Spieltag)
LOCATION:Pommerbachschule Kaisersesch, Im Haag, 56759 Kaisersesch
UID:SM-B2530@rptfv.de
PRIORITY:5
SEQUENCE:0
CATEGORIES:SPORT
DTSTAMP:20260425T132137
BEGIN:VALARM
ACTION:DISPLAY
TRIGGER:-PT2H
END:VALARM
END:VEVENT
END:VCALENDAR
