BEGIN:VCALENDAR
VERSION:2.0
PRODID:PHP
METHOD:REQUEST
X-ORIGINAL-URL:http://rptfv.de/index.php/rptfv-liga/mannschaften?task=team_begegnungen_ical&id=494
X-WR-CALNAME;VALUE=TEXT:1. Kicker Club Kaiserslautern 3
BEGIN:VEVENT
CLASS:PUBLIC
DTSTART:20250412T090000Z
DURATION:PT2H30M
STATUS:CONFIRMED
SUMMARY:1. Kicker Club Kaiserslautern 3 vs. KickNix Trier
DESCRIPTION:RPTFV Verbandsliga 2025 (1. Spieltag)\nErgebnis: 4:4 (10:10)
LOCATION:Ullrich Sport Andernach, Rasselsteinstr. 8-10, 56626 Andernach
UID:SM-B2314@rptfv.de
PRIORITY:5
SEQUENCE:1
CATEGORIES:SPORT
DTSTAMP:20260421T100025
END:VEVENT
BEGIN:VEVENT
CLASS:PUBLIC
DTSTART:20250412T113000Z
DURATION:PT2H30M
STATUS:CONFIRMED
SUMMARY:1. Kicker Club Kaiserslautern 3 vs. DJK Andernach 2
DESCRIPTION:RPTFV Verbandsliga 2025 (1. Spieltag)\nErgebnis: 5:3 (10:7)
LOCATION:Ullrich Sport Andernach, Rasselsteinstr. 8-10, 56626 Andernach
UID:SM-B2320@rptfv.de
PRIORITY:5
SEQUENCE:1
CATEGORIES:SPORT
DTSTAMP:20260421T100025
END:VEVENT
BEGIN:VEVENT
CLASS:PUBLIC
DTSTART:20250412T140000Z
DURATION:PT2H30M
STATUS:CONFIRMED
SUMMARY:TFC Kaisersesch 2 vs. 1. Kicker Club Kaiserslautern 3
DESCRIPTION:RPTFV Verbandsliga 2025 (1. Spieltag)\nErgebnis: 1:7 (4:14)
LOCATION:Ullrich Sport Andernach, Rasselsteinstr. 8-10, 56626 Andernach
UID:SM-B2325@rptfv.de
PRIORITY:5
SEQUENCE:1
CATEGORIES:SPORT
DTSTAMP:20260421T100025
END:VEVENT
BEGIN:VEVENT
CLASS:PUBLIC
DTSTART:20250518T090000Z
DURATION:PT2H30M
STATUS:CONFIRMED
SUMMARY:Borussia Eckelsheim vs. 1. Kicker Club Kaiserslautern 3
DESCRIPTION:RPTFV Verbandsliga 2025 (2. Spieltag)\nErgebnis: 5:3 (13:8)
LOCATION:Franziskushaus Mannheim, Speckweg 6, 68305 Mannheim
UID:SM-B2338@rptfv.de
PRIORITY:5
SEQUENCE:1
CATEGORIES:SPORT
DTSTAMP:20260421T100025
END:VEVENT
BEGIN:VEVENT
CLASS:PUBLIC
DTSTART:20250518T113000Z
DURATION:PT2H30M
STATUS:CONFIRMED
SUMMARY:1. Altriper-Kicker-Club vs. 1. Kicker Club Kaiserslautern 3
DESCRIPTION:RPTFV Verbandsliga 2025 (2. Spieltag)\nErgebnis: 7:1 (15:5)
LOCATION:Franziskushaus Mannheim, Speckweg 6, 68305 Mannheim
UID:SM-B2342@rptfv.de
PRIORITY:5
SEQUENCE:1
CATEGORIES:SPORT
DTSTAMP:20260421T100025
END:VEVENT
BEGIN:VEVENT
CLASS:PUBLIC
DTSTART:20250518T140000Z
DURATION:PT2H30M
STATUS:CONFIRMED
SUMMARY:Tischfußball Mannheim 2 vs. 1. Kicker Club Kaiserslautern 3
DESCRIPTION:RPTFV Verbandsliga 2025 (2. Spieltag)\nErgebnis: 6:2 (14:6)
LOCATION:Franziskushaus Mannheim, Speckweg 6, 68305 Mannheim
UID:SM-B2343@rptfv.de
PRIORITY:5
SEQUENCE:1
CATEGORIES:SPORT
DTSTAMP:20260421T100025
END:VEVENT
BEGIN:VEVENT
CLASS:PUBLIC
DTSTART:20250614T090000Z
DURATION:PT2H30M
STATUS:CONFIRMED
SUMMARY:1. Kicker Club Kaiserslautern 3 vs. MJC Tischfußball Trier 3
DESCRIPTION:RPTFV Verbandsliga 2025 (3. Spieltag)\nErgebnis: 3:5 (8:11)
LOCATION:DGH Eckelsheim, Bellerkirchstr. 19, 55599 Eckelsheim
UID:SM-B2350@rptfv.de
PRIORITY:5
SEQUENCE:1
CATEGORIES:SPORT
DTSTAMP:20260421T100025
END:VEVENT
BEGIN:VEVENT
CLASS:PUBLIC
DTSTART:20250614T113000Z
DURATION:PT2H30M
STATUS:CONFIRMED
SUMMARY:1. Kicker Club Kaiserslautern 3 vs. Atletico Wahlrod 2
DESCRIPTION:RPTFV Verbandsliga 2025 (3. Spieltag)\nErgebnis: 3:5 (8:11)
LOCATION:DGH Eckelsheim, Bellerkirchstr. 19, 55599 Eckelsheim
UID:SM-B2356@rptfv.de
PRIORITY:5
SEQUENCE:1
CATEGORIES:SPORT
DTSTAMP:20260421T100025
END:VEVENT
BEGIN:VEVENT
CLASS:PUBLIC
DTSTART:20250614T140000Z
DURATION:PT2H30M
STATUS:CONFIRMED
SUMMARY:DJK Andernach 1 vs. 1. Kicker Club Kaiserslautern 3
DESCRIPTION:RPTFV Verbandsliga 2025 (3. Spieltag)\nErgebnis: 6:2 (13:7)
LOCATION:DGH Eckelsheim, Bellerkirchstr. 19, 55599 Eckelsheim
UID:SM-B2359@rptfv.de
PRIORITY:5
SEQUENCE:1
CATEGORIES:SPORT
DTSTAMP:20260421T100025
END:VEVENT
BEGIN:VEVENT
CLASS:PUBLIC
DTSTART:20250831T090000Z
DURATION:PT2H30M
STATUS:CONFIRMED
SUMMARY:TFC Kaisersesch 3 vs. 1. Kicker Club Kaiserslautern 3
DESCRIPTION:RPTFV Verbandsliga 2025 (4. Spieltag)\nErgebnis: 3:5 (9:11)
LOCATION:Jugendhaus Kaiserslautern, Augustastraße 11, 67655 Kaiserslautern
UID:SM-B2368@rptfv.de
PRIORITY:5
SEQUENCE:1
CATEGORIES:SPORT
DTSTAMP:20260421T100025
END:VEVENT
BEGIN:VEVENT
CLASS:PUBLIC
DTSTART:20250831T113000Z
DURATION:PT2H30M
STATUS:CONFIRMED
SUMMARY:KickNix Trier vs. 1. Kicker Club Kaiserslautern 3
DESCRIPTION:RPTFV Verbandsliga 2025 (4. Spieltag)\nErgebnis: 7:1 (14:6)
LOCATION:Jugendhaus Kaiserslautern, Augustastraße 11, 67655 Kaiserslautern
UID:SM-B2374@rptfv.de
PRIORITY:5
SEQUENCE:1
CATEGORIES:SPORT
DTSTAMP:20260421T100025
END:VEVENT
BEGIN:VEVENT
CLASS:PUBLIC
DTSTART:20250831T140000Z
DURATION:PT2H30M
STATUS:CONFIRMED
SUMMARY:DJK Andernach 2 vs. 1. Kicker Club Kaiserslautern 3
DESCRIPTION:RPTFV Verbandsliga 2025 (4. Spieltag)\nErgebnis: 4:4 (11:10)
LOCATION:Jugendhaus Kaiserslautern, Augustastraße 11, 67655 Kaiserslautern
UID:SM-B2380@rptfv.de
PRIORITY:5
SEQUENCE:1
CATEGORIES:SPORT
DTSTAMP:20260421T100025
END:VEVENT
BEGIN:VEVENT
CLASS:PUBLIC
DTSTART:20250913T140000Z
DURATION:PT2H30M
STATUS:CONFIRMED
SUMMARY:Machete Mainz vs. 1. Kicker Club Kaiserslautern 3
DESCRIPTION:RPTFV Verbandsliga 2025 (5. Spieltag)\nErgebnis: 6:2 (12:6)
LOCATION:Domsgickel Mainz, Grebenstr. 16, 55116 Mainz
UID:SM-B2386@rptfv.de
PRIORITY:5
SEQUENCE:1
CATEGORIES:SPORT
DTSTAMP:20260421T100025
END:VEVENT
BEGIN:VEVENT
CLASS:PUBLIC
DTSTART:20250928T090000Z
DURATION:PT2H30M
STATUS:CONFIRMED
SUMMARY:1. Kicker Club Kaiserslautern 3 vs. Borussia Eckelsheim
DESCRIPTION:RPTFV Verbandsliga 2025 (6. Spieltag)\nErgebnis: 2:6 (7:14)
LOCATION:Jugendhaus Kaiserslautern, Augustastraße 11, 67655 Kaiserslautern
UID:SM-B2392@rptfv.de
PRIORITY:5
SEQUENCE:1
CATEGORIES:SPORT
DTSTAMP:20260421T100025
END:VEVENT
BEGIN:VEVENT
CLASS:PUBLIC
DTSTART:20250928T113000Z
DURATION:PT2H30M
STATUS:CONFIRMED
SUMMARY:1. Kicker Club Kaiserslautern 3 vs. 1. Altriper-Kicker-Club
DESCRIPTION:RPTFV Verbandsliga 2025 (6. Spieltag)\nErgebnis: 5:3 (11:9)
LOCATION:Jugendhaus Kaiserslautern, Augustastraße 11, 67655 Kaiserslautern
UID:SM-B2400@rptfv.de
PRIORITY:5
SEQUENCE:1
CATEGORIES:SPORT
DTSTAMP:20260421T100025
END:VEVENT
BEGIN:VEVENT
CLASS:PUBLIC
DTSTART:20250928T140000Z
DURATION:PT2H30M
STATUS:CONFIRMED
SUMMARY:1. Kicker Club Kaiserslautern 3 vs. Tischfußball Mannheim 2
DESCRIPTION:RPTFV Verbandsliga 2025 (6. Spieltag)\nErgebnis: 2:6 (9:14)
LOCATION:Jugendhaus Kaiserslautern, Augustastraße 11, 67655 Kaiserslautern
UID:SM-B2404@rptfv.de
PRIORITY:5
SEQUENCE:1
CATEGORIES:SPORT
DTSTAMP:20260421T100025
END:VEVENT
BEGIN:VEVENT
CLASS:PUBLIC
DTSTART:20251011T090000Z
DURATION:PT2H30M
STATUS:CONFIRMED
SUMMARY:1. Kicker Club Kaiserslautern 3 vs. TFC Kaisersesch 2
DESCRIPTION:RPTFV Verbandsliga 2025 (7. Spieltag)\nErgebnis: 4:4 (10:9)
LOCATION:St. Thomas Realschule plus Andernach, Salentinstraße 1a, 56626 Andernach
UID:SM-B2410@rptfv.de
PRIORITY:5
SEQUENCE:1
CATEGORIES:SPORT
DTSTAMP:20260421T100025
END:VEVENT
BEGIN:VEVENT
CLASS:PUBLIC
DTSTART:20251011T113000Z
DURATION:PT2H30M
STATUS:CONFIRMED
SUMMARY:MJC Tischfußball Trier 3 vs. 1. Kicker Club Kaiserslautern 3
DESCRIPTION:RPTFV Verbandsliga 2025 (7. Spieltag)\nErgebnis: 4:4 (9:9)
LOCATION:St. Thomas Realschule plus Andernach, Salentinstraße 1a, 56626 Andernach
UID:SM-B2417@rptfv.de
PRIORITY:5
SEQUENCE:1
CATEGORIES:SPORT
DTSTAMP:20260421T100025
END:VEVENT
BEGIN:VEVENT
CLASS:PUBLIC
DTSTART:20251011T140000Z
DURATION:PT2H30M
STATUS:CONFIRMED
SUMMARY:Atletico Wahlrod 2 vs. 1. Kicker Club Kaiserslautern 3
DESCRIPTION:RPTFV Verbandsliga 2025 (7. Spieltag)\nErgebnis: 6:2 (13:5)
LOCATION:St. Thomas Realschule plus Andernach, Salentinstraße 1a, 56626 Andernach
UID:SM-B2423@rptfv.de
PRIORITY:5
SEQUENCE:1
CATEGORIES:SPORT
DTSTAMP:20260421T100025
END:VEVENT
BEGIN:VEVENT
CLASS:PUBLIC
DTSTART:20251025T090000Z
DURATION:PT2H30M
STATUS:CONFIRMED
SUMMARY:1. Kicker Club Kaiserslautern 3 vs. DJK Andernach 1
DESCRIPTION:RPTFV Verbandsliga 2025 (8. Spieltag)\nErgebnis: 3:5 (8:12)
LOCATION:DGH Eckelsheim, Bellerkirchstr. 19, 55599 Eckelsheim
UID:SM-B2426@rptfv.de
PRIORITY:5
SEQUENCE:1
CATEGORIES:SPORT
DTSTAMP:20260421T100025
END:VEVENT
BEGIN:VEVENT
CLASS:PUBLIC
DTSTART:20251025T113000Z
DURATION:PT2H30M
STATUS:CONFIRMED
SUMMARY:1. Kicker Club Kaiserslautern 3 vs. Machete Mainz
DESCRIPTION:RPTFV Verbandsliga 2025 (8. Spieltag)\nErgebnis: 1:7 (4:15)
LOCATION:DGH Eckelsheim, Bellerkirchstr. 19, 55599 Eckelsheim
UID:SM-B2435@rptfv.de
PRIORITY:5
SEQUENCE:1
CATEGORIES:SPORT
DTSTAMP:20260421T100025
END:VEVENT
BEGIN:VEVENT
CLASS:PUBLIC
DTSTART:20251025T140000Z
DURATION:PT2H30M
STATUS:CONFIRMED
SUMMARY:1. Kicker Club Kaiserslautern 3 vs. TFC Kaisersesch 3
DESCRIPTION:RPTFV Verbandsliga 2025 (8. Spieltag)\nErgebnis: 1:7 (6:15)
LOCATION:DGH Eckelsheim, Bellerkirchstr. 19, 55599 Eckelsheim
UID:SM-B2441@rptfv.de
PRIORITY:5
SEQUENCE:1
CATEGORIES:SPORT
DTSTAMP:20260421T100025
END:VEVENT
END:VCALENDAR
