BEGIN:VCALENDAR
VERSION:2.0
PRODID:PHP
METHOD:REQUEST
X-ORIGINAL-URL:http://rptfv.de/index.php/rptfv-liga/aktuelle-begegnungen?task=team_begegnungen_ical&id=512
X-WR-CALNAME;VALUE=TEXT:1. Altriper-Kicker-Club
BEGIN:VEVENT
CLASS:PUBLIC
DTSTART:20260418T090000Z
DURATION:PT2H30M
STATUS:CONFIRMED
SUMMARY:1. Altriper-Kicker-Club vs. 1. Kicker Club Kaiserslautern 4
DESCRIPTION:RPTFV Verbandsliga 2026 (1. Spieltag)\nErgebnis: 3:5 (7:10)
LOCATION:DGH Eckelsheim, Bellerkirchstr. 19, 55599 Eckelsheim
UID:SM-B2533@rptfv.de
PRIORITY:5
SEQUENCE:1
CATEGORIES:SPORT
DTSTAMP:20260425T125619
END:VEVENT
BEGIN:VEVENT
CLASS:PUBLIC
DTSTART:20260418T113000Z
DURATION:PT2H30M
STATUS:CONFIRMED
SUMMARY:1. Altriper-Kicker-Club vs. Atletico Wahlrod 1
DESCRIPTION:RPTFV Verbandsliga 2026 (1. Spieltag)\nErgebnis: 5:3 (10:9)
LOCATION:DGH Eckelsheim, Bellerkirchstr. 19, 55599 Eckelsheim
UID:SM-B2538@rptfv.de
PRIORITY:5
SEQUENCE:1
CATEGORIES:SPORT
DTSTAMP:20260425T125619
END:VEVENT
BEGIN:VEVENT
CLASS:PUBLIC
DTSTART:20260418T140000Z
DURATION:PT2H30M
STATUS:CONFIRMED
SUMMARY:1. Altriper-Kicker-Club vs. Machete Mainz
DESCRIPTION:RPTFV Verbandsliga 2026 (1. Spieltag)\nErgebnis: 2:6 (7:13)
LOCATION:DGH Eckelsheim, Bellerkirchstr. 19, 55599 Eckelsheim
UID:SM-B2543@rptfv.de
PRIORITY:5
SEQUENCE:1
CATEGORIES:SPORT
DTSTAMP:20260425T125619
END:VEVENT
BEGIN:VEVENT
CLASS:PUBLIC
DTSTART:20260517T090000Z
DURATION:PT2H30M
STATUS:CONFIRMED
SUMMARY:1. Altriper-Kicker-Club vs. Borussia Eckelsheim 1
DESCRIPTION:RPTFV Verbandsliga 2026 (2. Spieltag)
LOCATION:DGH Eckelsheim, Bellerkirchstr. 19, 55599 Eckelsheim
UID:SM-B2548@rptfv.de
PRIORITY:5
SEQUENCE:0
CATEGORIES:SPORT
DTSTAMP:20260425T125619
END:VEVENT
BEGIN:VEVENT
CLASS:PUBLIC
DTSTART:20260517T113000Z
DURATION:PT2H30M
STATUS:CONFIRMED
SUMMARY:1. Altriper-Kicker-Club vs. 1. Kicker Club Kaiserslautern 3
DESCRIPTION:RPTFV Verbandsliga 2026 (2. Spieltag)
LOCATION:DGH Eckelsheim, Bellerkirchstr. 19, 55599 Eckelsheim
UID:SM-B2553@rptfv.de
PRIORITY:5
SEQUENCE:0
CATEGORIES:SPORT
DTSTAMP:20260425T125619
END:VEVENT
BEGIN:VEVENT
CLASS:PUBLIC
DTSTART:20260517T140000Z
DURATION:PT2H30M
STATUS:CONFIRMED
SUMMARY:1. Altriper-Kicker-Club vs. KickNix Trier
DESCRIPTION:RPTFV Verbandsliga 2026 (2. Spieltag)
LOCATION:DGH Eckelsheim, Bellerkirchstr. 19, 55599 Eckelsheim
UID:SM-B2558@rptfv.de
PRIORITY:5
SEQUENCE:0
CATEGORIES:SPORT
DTSTAMP:20260425T125619
END:VEVENT
BEGIN:VEVENT
CLASS:PUBLIC
DTSTART:20260607T090000Z
DURATION:PT2H30M
STATUS:CONFIRMED
SUMMARY:1. Altriper-Kicker-Club vs. TFC Kaisersesch 2
DESCRIPTION:RPTFV Verbandsliga 2026 (3. Spieltag)
LOCATION:Vereinsheim Golden Puppets Limburg, Im Kleinfeld 2, 65551 Limburg
UID:SM-B2563@rptfv.de
PRIORITY:5
SEQUENCE:0
CATEGORIES:SPORT
DTSTAMP:20260425T125619
END:VEVENT
BEGIN:VEVENT
CLASS:PUBLIC
DTSTART:20260607T113000Z
DURATION:PT2H30M
STATUS:CONFIRMED
SUMMARY:1. Altriper-Kicker-Club vs. Atletico Wahlrod 2
DESCRIPTION:RPTFV Verbandsliga 2026 (3. Spieltag)
LOCATION:Vereinsheim Golden Puppets Limburg, Im Kleinfeld 2, 65551 Limburg
UID:SM-B2568@rptfv.de
PRIORITY:5
SEQUENCE:0
CATEGORIES:SPORT
DTSTAMP:20260425T125619
END:VEVENT
BEGIN:VEVENT
CLASS:PUBLIC
DTSTART:20260607T140000Z
DURATION:PT2H30M
STATUS:CONFIRMED
SUMMARY:1. Altriper-Kicker-Club vs. Golden Puppets
DESCRIPTION:RPTFV Verbandsliga 2026 (3. Spieltag)
LOCATION:Vereinsheim Golden Puppets Limburg, Im Kleinfeld 2, 65551 Limburg
UID:SM-B2573@rptfv.de
PRIORITY:5
SEQUENCE:0
CATEGORIES:SPORT
DTSTAMP:20260425T125619
END:VEVENT
BEGIN:VEVENT
CLASS:PUBLIC
DTSTART:20260905T090000Z
DURATION:PT2H30M
STATUS:CONFIRMED
SUMMARY:TFC Kaisersesch 2 vs. 1. Altriper-Kicker-Club
DESCRIPTION:RPTFV Verbandsliga 2026 (4. Spieltag)
LOCATION:Vereinsheim Atletico Wahlrod, Schulweg 4, 57614 Wahlrod
UID:SM-B2582@rptfv.de
PRIORITY:5
SEQUENCE:0
CATEGORIES:SPORT
DTSTAMP:20260425T125619
END:VEVENT
BEGIN:VEVENT
CLASS:PUBLIC
DTSTART:20260905T113000Z
DURATION:PT2H30M
STATUS:CONFIRMED
SUMMARY:Atletico Wahlrod 2 vs. 1. Altriper-Kicker-Club
DESCRIPTION:RPTFV Verbandsliga 2026 (4. Spieltag)
LOCATION:Vereinsheim Atletico Wahlrod, Schulweg 4, 57614 Wahlrod
UID:SM-B2586@rptfv.de
PRIORITY:5
SEQUENCE:0
CATEGORIES:SPORT
DTSTAMP:20260425T125619
END:VEVENT
BEGIN:VEVENT
CLASS:PUBLIC
DTSTART:20260905T140000Z
DURATION:PT2H30M
STATUS:CONFIRMED
SUMMARY:Golden Puppets vs. 1. Altriper-Kicker-Club
DESCRIPTION:RPTFV Verbandsliga 2026 (4. Spieltag)
LOCATION:Vereinsheim Atletico Wahlrod, Schulweg 4, 57614 Wahlrod
UID:SM-B2591@rptfv.de
PRIORITY:5
SEQUENCE:0
CATEGORIES:SPORT
DTSTAMP:20260425T125619
END:VEVENT
BEGIN:VEVENT
CLASS:PUBLIC
DTSTART:20261004T090000Z
DURATION:PT2H30M
STATUS:CONFIRMED
SUMMARY:Borussia Eckelsheim 1 vs. 1. Altriper-Kicker-Club
DESCRIPTION:RPTFV Verbandsliga 2026 (5. Spieltag)
LOCATION:Jugendhaus Kaiserslautern, Augustastraße 11, 67655 Kaiserslautern
UID:SM-B2593@rptfv.de
PRIORITY:5
SEQUENCE:0
CATEGORIES:SPORT
DTSTAMP:20260425T125619
END:VEVENT
BEGIN:VEVENT
CLASS:PUBLIC
DTSTART:20261004T113000Z
DURATION:PT2H30M
STATUS:CONFIRMED
SUMMARY:1. Kicker Club Kaiserslautern 3 vs. 1. Altriper-Kicker-Club
DESCRIPTION:RPTFV Verbandsliga 2026 (5. Spieltag)
LOCATION:Jugendhaus Kaiserslautern, Augustastraße 11, 67655 Kaiserslautern
UID:SM-B2598@rptfv.de
PRIORITY:5
SEQUENCE:0
CATEGORIES:SPORT
DTSTAMP:20260425T125619
END:VEVENT
BEGIN:VEVENT
CLASS:PUBLIC
DTSTART:20261004T140000Z
DURATION:PT2H30M
STATUS:CONFIRMED
SUMMARY:KickNix Trier vs. 1. Altriper-Kicker-Club
DESCRIPTION:RPTFV Verbandsliga 2026 (5. Spieltag)
LOCATION:Jugendhaus Kaiserslautern, Augustastraße 11, 67655 Kaiserslautern
UID:SM-B2603@rptfv.de
PRIORITY:5
SEQUENCE:0
CATEGORIES:SPORT
DTSTAMP:20260425T125619
END:VEVENT
BEGIN:VEVENT
CLASS:PUBLIC
DTSTART:20261024T090000Z
DURATION:PT2H30M
STATUS:CONFIRMED
SUMMARY:1. Kicker Club Kaiserslautern 4 vs. 1. Altriper-Kicker-Club
DESCRIPTION:RPTFV Verbandsliga 2026 (6. Spieltag)
LOCATION:Pommerbachschule Kaisersesch, Im Haag, 56759 Kaisersesch
UID:SM-B2609@rptfv.de
PRIORITY:5
SEQUENCE:0
CATEGORIES:SPORT
DTSTAMP:20260425T125619
END:VEVENT
BEGIN:VEVENT
CLASS:PUBLIC
DTSTART:20261024T113000Z
DURATION:PT2H30M
STATUS:CONFIRMED
SUMMARY:Atletico Wahlrod 1 vs. 1. Altriper-Kicker-Club
DESCRIPTION:RPTFV Verbandsliga 2026 (6. Spieltag)
LOCATION:Pommerbachschule Kaisersesch, Im Haag, 56759 Kaisersesch
UID:SM-B2614@rptfv.de
PRIORITY:5
SEQUENCE:0
CATEGORIES:SPORT
DTSTAMP:20260425T125619
END:VEVENT
BEGIN:VEVENT
CLASS:PUBLIC
DTSTART:20261024T140000Z
DURATION:PT2H30M
STATUS:CONFIRMED
SUMMARY:Machete Mainz vs. 1. Altriper-Kicker-Club
DESCRIPTION:RPTFV Verbandsliga 2026 (6. Spieltag)
LOCATION:Pommerbachschule Kaisersesch, Im Haag, 56759 Kaisersesch
UID:SM-B2620@rptfv.de
PRIORITY:5
SEQUENCE:0
CATEGORIES:SPORT
DTSTAMP:20260425T125619
END:VEVENT
END:VCALENDAR
