BEGIN:VCALENDAR
VERSION:2.0
PRODID:PHP
METHOD:REQUEST
X-ORIGINAL-URL:http://rptfv.de/index.php/rptfv-liga/aktuelle-begegnungen?task=team_begegnungen_ical&id=513
X-WR-CALNAME;VALUE=TEXT:Borussia Eckelsheim 1
BEGIN:VEVENT
CLASS:PUBLIC
DTSTART:20260418T090000Z
DURATION:PT2H30M
STATUS:CONFIRMED
SUMMARY:Borussia Eckelsheim 1 vs. 1. Kicker Club Kaiserslautern 3
DESCRIPTION:RPTFV Verbandsliga 2026 (1. Spieltag)\nErgebnis: 5:3 (11:7)
LOCATION:DGH Eckelsheim, Bellerkirchstr. 19, 55599 Eckelsheim
UID:SM-B2534@rptfv.de
PRIORITY:5
SEQUENCE:1
CATEGORIES:SPORT
DTSTAMP:20260425T130852
BEGIN:VALARM
ACTION:DISPLAY
TRIGGER:-PT2H
END:VALARM
END:VEVENT
BEGIN:VEVENT
CLASS:PUBLIC
DTSTART:20260418T113000Z
DURATION:PT2H30M
STATUS:CONFIRMED
SUMMARY:Borussia Eckelsheim 1 vs. KickNix Trier
DESCRIPTION:RPTFV Verbandsliga 2026 (1. Spieltag)\nErgebnis: 5:3 (13:10)
LOCATION:DGH Eckelsheim, Bellerkirchstr. 19, 55599 Eckelsheim
UID:SM-B2539@rptfv.de
PRIORITY:5
SEQUENCE:1
CATEGORIES:SPORT
DTSTAMP:20260425T130852
BEGIN:VALARM
ACTION:DISPLAY
TRIGGER:-PT2H
END:VALARM
END:VEVENT
BEGIN:VEVENT
CLASS:PUBLIC
DTSTART:20260418T140000Z
DURATION:PT2H30M
STATUS:CONFIRMED
SUMMARY:Borussia Eckelsheim 1 vs. Atletico Wahlrod 2
DESCRIPTION:RPTFV Verbandsliga 2026 (1. Spieltag)\nErgebnis: 3:5 (8:11)
LOCATION:DGH Eckelsheim, Bellerkirchstr. 19, 55599 Eckelsheim
UID:SM-B2546@rptfv.de
PRIORITY:5
SEQUENCE:1
CATEGORIES:SPORT
DTSTAMP:20260425T130852
BEGIN:VALARM
ACTION:DISPLAY
TRIGGER:-PT2H
END:VALARM
END:VEVENT
BEGIN:VEVENT
CLASS:PUBLIC
DTSTART:20260517T090000Z
DURATION:PT2H30M
STATUS:CONFIRMED
SUMMARY:1. Altriper-Kicker-Club vs. Borussia Eckelsheim 1
DESCRIPTION:RPTFV Verbandsliga 2026 (2. Spieltag)
LOCATION:DGH Eckelsheim, Bellerkirchstr. 19, 55599 Eckelsheim
UID:SM-B2548@rptfv.de
PRIORITY:5
SEQUENCE:0
CATEGORIES:SPORT
DTSTAMP:20260425T130852
BEGIN:VALARM
ACTION:DISPLAY
TRIGGER:-PT2H
END:VALARM
END:VEVENT
BEGIN:VEVENT
CLASS:PUBLIC
DTSTART:20260517T113000Z
DURATION:PT2H30M
STATUS:CONFIRMED
SUMMARY:Borussia Eckelsheim 1 vs. Golden Puppets
DESCRIPTION:RPTFV Verbandsliga 2026 (2. Spieltag)
LOCATION:DGH Eckelsheim, Bellerkirchstr. 19, 55599 Eckelsheim
UID:SM-B2554@rptfv.de
PRIORITY:5
SEQUENCE:0
CATEGORIES:SPORT
DTSTAMP:20260425T130852
BEGIN:VALARM
ACTION:DISPLAY
TRIGGER:-PT2H
END:VALARM
END:VEVENT
BEGIN:VEVENT
CLASS:PUBLIC
DTSTART:20260517T140000Z
DURATION:PT2H30M
STATUS:CONFIRMED
SUMMARY:Borussia Eckelsheim 1 vs. TFC Kaisersesch 2
DESCRIPTION:RPTFV Verbandsliga 2026 (2. Spieltag)
LOCATION:DGH Eckelsheim, Bellerkirchstr. 19, 55599 Eckelsheim
UID:SM-B2559@rptfv.de
PRIORITY:5
SEQUENCE:0
CATEGORIES:SPORT
DTSTAMP:20260425T130852
BEGIN:VALARM
ACTION:DISPLAY
TRIGGER:-PT2H
END:VALARM
END:VEVENT
BEGIN:VEVENT
CLASS:PUBLIC
DTSTART:20260607T090000Z
DURATION:PT2H30M
STATUS:CONFIRMED
SUMMARY:Borussia Eckelsheim 1 vs. 1. Kicker Club Kaiserslautern 4
DESCRIPTION:RPTFV Verbandsliga 2026 (3. Spieltag)
LOCATION:Jugendhaus Kaiserslautern, Augustastraße 11, 67655 Kaiserslautern
UID:SM-B2565@rptfv.de
PRIORITY:5
SEQUENCE:0
CATEGORIES:SPORT
DTSTAMP:20260425T130852
BEGIN:VALARM
ACTION:DISPLAY
TRIGGER:-PT2H
END:VALARM
END:VEVENT
BEGIN:VEVENT
CLASS:PUBLIC
DTSTART:20260607T113000Z
DURATION:PT2H30M
STATUS:CONFIRMED
SUMMARY:Borussia Eckelsheim 1 vs. Atletico Wahlrod 1
DESCRIPTION:RPTFV Verbandsliga 2026 (3. Spieltag)
LOCATION:Jugendhaus Kaiserslautern, Augustastraße 11, 67655 Kaiserslautern
UID:SM-B2570@rptfv.de
PRIORITY:5
SEQUENCE:0
CATEGORIES:SPORT
DTSTAMP:20260425T130852
BEGIN:VALARM
ACTION:DISPLAY
TRIGGER:-PT2H
END:VALARM
END:VEVENT
BEGIN:VEVENT
CLASS:PUBLIC
DTSTART:20260607T140000Z
DURATION:PT2H30M
STATUS:CONFIRMED
SUMMARY:Borussia Eckelsheim 1 vs. Machete Mainz
DESCRIPTION:RPTFV Verbandsliga 2026 (3. Spieltag)
LOCATION:Jugendhaus Kaiserslautern, Augustastraße 11, 67655 Kaiserslautern
UID:SM-B2576@rptfv.de
PRIORITY:5
SEQUENCE:0
CATEGORIES:SPORT
DTSTAMP:20260425T130852
BEGIN:VALARM
ACTION:DISPLAY
TRIGGER:-PT2H
END:VALARM
END:VEVENT
BEGIN:VEVENT
CLASS:PUBLIC
DTSTART:20260905T090000Z
DURATION:PT2H30M
STATUS:CONFIRMED
SUMMARY:1. Kicker Club Kaiserslautern 4 vs. Borussia Eckelsheim 1
DESCRIPTION:RPTFV Verbandsliga 2026 (4. Spieltag)
LOCATION:DGH Eckelsheim, Bellerkirchstr. 19, 55599 Eckelsheim
UID:SM-B2578@rptfv.de
PRIORITY:5
SEQUENCE:0
CATEGORIES:SPORT
DTSTAMP:20260425T130852
BEGIN:VALARM
ACTION:DISPLAY
TRIGGER:-PT2H
END:VALARM
END:VEVENT
BEGIN:VEVENT
CLASS:PUBLIC
DTSTART:20260905T113000Z
DURATION:PT2H30M
STATUS:CONFIRMED
SUMMARY:Atletico Wahlrod 1 vs. Borussia Eckelsheim 1
DESCRIPTION:RPTFV Verbandsliga 2026 (4. Spieltag)
LOCATION:DGH Eckelsheim, Bellerkirchstr. 19, 55599 Eckelsheim
UID:SM-B2584@rptfv.de
PRIORITY:5
SEQUENCE:0
CATEGORIES:SPORT
DTSTAMP:20260425T130852
BEGIN:VALARM
ACTION:DISPLAY
TRIGGER:-PT2H
END:VALARM
END:VEVENT
BEGIN:VEVENT
CLASS:PUBLIC
DTSTART:20260905T140000Z
DURATION:PT2H30M
STATUS:CONFIRMED
SUMMARY:Machete Mainz vs. Borussia Eckelsheim 1
DESCRIPTION:RPTFV Verbandsliga 2026 (4. Spieltag)
LOCATION:DGH Eckelsheim, Bellerkirchstr. 19, 55599 Eckelsheim
UID:SM-B2590@rptfv.de
PRIORITY:5
SEQUENCE:0
CATEGORIES:SPORT
DTSTAMP:20260425T130852
BEGIN:VALARM
ACTION:DISPLAY
TRIGGER:-PT2H
END:VALARM
END:VEVENT
BEGIN:VEVENT
CLASS:PUBLIC
DTSTART:20261004T090000Z
DURATION:PT2H30M
STATUS:CONFIRMED
SUMMARY:Borussia Eckelsheim 1 vs. 1. Altriper-Kicker-Club
DESCRIPTION:RPTFV Verbandsliga 2026 (5. Spieltag)
LOCATION:Jugendhaus Kaiserslautern, Augustastraße 11, 67655 Kaiserslautern
UID:SM-B2593@rptfv.de
PRIORITY:5
SEQUENCE:0
CATEGORIES:SPORT
DTSTAMP:20260425T130852
BEGIN:VALARM
ACTION:DISPLAY
TRIGGER:-PT2H
END:VALARM
END:VEVENT
BEGIN:VEVENT
CLASS:PUBLIC
DTSTART:20261004T113000Z
DURATION:PT2H30M
STATUS:CONFIRMED
SUMMARY:Golden Puppets vs. Borussia Eckelsheim 1
DESCRIPTION:RPTFV Verbandsliga 2026 (5. Spieltag)
LOCATION:Jugendhaus Kaiserslautern, Augustastraße 11, 67655 Kaiserslautern
UID:SM-B2599@rptfv.de
PRIORITY:5
SEQUENCE:0
CATEGORIES:SPORT
DTSTAMP:20260425T130852
BEGIN:VALARM
ACTION:DISPLAY
TRIGGER:-PT2H
END:VALARM
END:VEVENT
BEGIN:VEVENT
CLASS:PUBLIC
DTSTART:20261004T140000Z
DURATION:PT2H30M
STATUS:CONFIRMED
SUMMARY:TFC Kaisersesch 2 vs. Borussia Eckelsheim 1
DESCRIPTION:RPTFV Verbandsliga 2026 (5. Spieltag)
LOCATION:Jugendhaus Kaiserslautern, Augustastraße 11, 67655 Kaiserslautern
UID:SM-B2605@rptfv.de
PRIORITY:5
SEQUENCE:0
CATEGORIES:SPORT
DTSTAMP:20260425T130852
BEGIN:VALARM
ACTION:DISPLAY
TRIGGER:-PT2H
END:VALARM
END:VEVENT
BEGIN:VEVENT
CLASS:PUBLIC
DTSTART:20261024T090000Z
DURATION:PT2H30M
STATUS:CONFIRMED
SUMMARY:1. Kicker Club Kaiserslautern 3 vs. Borussia Eckelsheim 1
DESCRIPTION:RPTFV Verbandsliga 2026 (6. Spieltag)
LOCATION:Pommerbachschule Kaisersesch, Im Haag, 56759 Kaisersesch
UID:SM-B2608@rptfv.de
PRIORITY:5
SEQUENCE:0
CATEGORIES:SPORT
DTSTAMP:20260425T130852
BEGIN:VALARM
ACTION:DISPLAY
TRIGGER:-PT2H
END:VALARM
END:VEVENT
BEGIN:VEVENT
CLASS:PUBLIC
DTSTART:20261024T113000Z
DURATION:PT2H30M
STATUS:CONFIRMED
SUMMARY:KickNix Trier vs. Borussia Eckelsheim 1
DESCRIPTION:RPTFV Verbandsliga 2026 (6. Spieltag)
LOCATION:Pommerbachschule Kaisersesch, Im Haag, 56759 Kaisersesch
UID:SM-B2613@rptfv.de
PRIORITY:5
SEQUENCE:0
CATEGORIES:SPORT
DTSTAMP:20260425T130852
BEGIN:VALARM
ACTION:DISPLAY
TRIGGER:-PT2H
END:VALARM
END:VEVENT
BEGIN:VEVENT
CLASS:PUBLIC
DTSTART:20261024T140000Z
DURATION:PT2H30M
STATUS:CONFIRMED
SUMMARY:Atletico Wahlrod 2 vs. Borussia Eckelsheim 1
DESCRIPTION:RPTFV Verbandsliga 2026 (6. Spieltag)
LOCATION:Pommerbachschule Kaisersesch, Im Haag, 56759 Kaisersesch
UID:SM-B2619@rptfv.de
PRIORITY:5
SEQUENCE:0
CATEGORIES:SPORT
DTSTAMP:20260425T130852
BEGIN:VALARM
ACTION:DISPLAY
TRIGGER:-PT2H
END:VALARM
END:VEVENT
END:VCALENDAR
