BEGIN:VCALENDAR
VERSION:2.0
PRODID:PHP
METHOD:REQUEST
X-ORIGINAL-URL:http://rptfv.de/index.php/rptfv-liga/aktuelle-begegnungen?task=team_begegnungen_ical&id=504
X-WR-CALNAME;VALUE=TEXT:MJC Tischfußball Trier 2
BEGIN:VEVENT
CLASS:PUBLIC
DTSTART:20260418T090000Z
DURATION:PT2H30M
STATUS:CONFIRMED
SUMMARY:TFBS Koblenz 2 vs. MJC Tischfußball Trier 2
DESCRIPTION:RPTFV Landesliga 2026 (1. Spieltag)\nErgebnis: 7:1 (14:7)
LOCATION:DGH Eckelsheim, Bellerkirchstr. 19, 55599 Eckelsheim
UID:SM-B2446@rptfv.de
PRIORITY:5
SEQUENCE:1
CATEGORIES:SPORT
DTSTAMP:20260425T153122
BEGIN:VALARM
ACTION:DISPLAY
TRIGGER:-PT2H
END:VALARM
END:VEVENT
BEGIN:VEVENT
CLASS:PUBLIC
DTSTART:20260418T113000Z
DURATION:PT2H30M
STATUS:CONFIRMED
SUMMARY:1. Kicker Club Kaiserslautern 2 vs. MJC Tischfußball Trier 2
DESCRIPTION:RPTFV Landesliga 2026 (1. Spieltag)\nErgebnis: 7:1 (14:5)
LOCATION:DGH Eckelsheim, Bellerkirchstr. 19, 55599 Eckelsheim
UID:SM-B2451@rptfv.de
PRIORITY:5
SEQUENCE:1
CATEGORIES:SPORT
DTSTAMP:20260425T153122
BEGIN:VALARM
ACTION:DISPLAY
TRIGGER:-PT2H
END:VALARM
END:VEVENT
BEGIN:VEVENT
CLASS:PUBLIC
DTSTART:20260418T140000Z
DURATION:PT2H30M
STATUS:CONFIRMED
SUMMARY:Altricher Soccer Club vs. MJC Tischfußball Trier 2
DESCRIPTION:RPTFV Landesliga 2026 (1. Spieltag)\nErgebnis: 8:0 (16:4)
LOCATION:DGH Eckelsheim, Bellerkirchstr. 19, 55599 Eckelsheim
UID:SM-B2453@rptfv.de
PRIORITY:5
SEQUENCE:1
CATEGORIES:SPORT
DTSTAMP:20260425T153122
BEGIN:VALARM
ACTION:DISPLAY
TRIGGER:-PT2H
END:VALARM
END:VEVENT
BEGIN:VEVENT
CLASS:PUBLIC
DTSTART:20260517T090000Z
DURATION:PT2H30M
STATUS:CONFIRMED
SUMMARY:Wasgau Shooters Pirmasens vs. MJC Tischfußball Trier 2
DESCRIPTION:RPTFV Landesliga 2026 (2. Spieltag)
LOCATION:Franziskushaus Mannheim, Speckweg 6, 68305 Mannheim
UID:SM-B2460@rptfv.de
PRIORITY:5
SEQUENCE:0
CATEGORIES:SPORT
DTSTAMP:20260425T153122
BEGIN:VALARM
ACTION:DISPLAY
TRIGGER:-PT2H
END:VALARM
END:VEVENT
BEGIN:VEVENT
CLASS:PUBLIC
DTSTART:20260517T113000Z
DURATION:PT2H30M
STATUS:CONFIRMED
SUMMARY:Tischfußball Mannheim 1 vs. MJC Tischfußball Trier 2
DESCRIPTION:RPTFV Landesliga 2026 (2. Spieltag)
LOCATION:Franziskushaus Mannheim, Speckweg 6, 68305 Mannheim
UID:SM-B2465@rptfv.de
PRIORITY:5
SEQUENCE:0
CATEGORIES:SPORT
DTSTAMP:20260425T153122
BEGIN:VALARM
ACTION:DISPLAY
TRIGGER:-PT2H
END:VALARM
END:VEVENT
BEGIN:VEVENT
CLASS:PUBLIC
DTSTART:20260517T140000Z
DURATION:PT2H30M
STATUS:CONFIRMED
SUMMARY:Tischfußball Mannheim 2 vs. MJC Tischfußball Trier 2
DESCRIPTION:RPTFV Landesliga 2026 (2. Spieltag)
LOCATION:Franziskushaus Mannheim, Speckweg 6, 68305 Mannheim
UID:SM-B2470@rptfv.de
PRIORITY:5
SEQUENCE:0
CATEGORIES:SPORT
DTSTAMP:20260425T153122
BEGIN:VALARM
ACTION:DISPLAY
TRIGGER:-PT2H
END:VALARM
END:VEVENT
BEGIN:VEVENT
CLASS:PUBLIC
DTSTART:20260607T090000Z
DURATION:PT2H30M
STATUS:CONFIRMED
SUMMARY:TFC Kaisersesch 1 vs. MJC Tischfußball Trier 2
DESCRIPTION:RPTFV Landesliga 2026 (3. Spieltag)
LOCATION:Sportanlage am Römersprudel Trier, Peter-Scholzen-Str. 88, 54296 Trier
UID:SM-B2476@rptfv.de
PRIORITY:5
SEQUENCE:0
CATEGORIES:SPORT
DTSTAMP:20260425T153122
BEGIN:VALARM
ACTION:DISPLAY
TRIGGER:-PT2H
END:VALARM
END:VEVENT
BEGIN:VEVENT
CLASS:PUBLIC
DTSTART:20260607T113000Z
DURATION:PT2H30M
STATUS:CONFIRMED
SUMMARY:MJC Tischfußball Trier 1 vs. MJC Tischfußball Trier 2
DESCRIPTION:RPTFV Landesliga 2026 (3. Spieltag)
LOCATION:Sportanlage am Römersprudel Trier, Peter-Scholzen-Str. 88, 54296 Trier
UID:SM-B2482@rptfv.de
PRIORITY:5
SEQUENCE:0
CATEGORIES:SPORT
DTSTAMP:20260425T153122
BEGIN:VALARM
ACTION:DISPLAY
TRIGGER:-PT2H
END:VALARM
END:VEVENT
BEGIN:VEVENT
CLASS:PUBLIC
DTSTART:20260607T140000Z
DURATION:PT2H30M
STATUS:CONFIRMED
SUMMARY:DJK Andernach vs. MJC Tischfußball Trier 2
DESCRIPTION:RPTFV Landesliga 2026 (3. Spieltag)
LOCATION:Sportanlage am Römersprudel Trier, Peter-Scholzen-Str. 88, 54296 Trier
UID:SM-B2486@rptfv.de
PRIORITY:5
SEQUENCE:0
CATEGORIES:SPORT
DTSTAMP:20260425T153122
BEGIN:VALARM
ACTION:DISPLAY
TRIGGER:-PT2H
END:VALARM
END:VEVENT
BEGIN:VEVENT
CLASS:PUBLIC
DTSTART:20260905T090000Z
DURATION:PT2H30M
STATUS:CONFIRMED
SUMMARY:MJC Tischfußball Trier 2 vs. TFC Kaisersesch 1
DESCRIPTION:RPTFV Landesliga 2026 (4. Spieltag)
LOCATION:BBW Heinrich Haus Neuwied, Stiftsstr. 1, 56566 Neuwied-Heimbach-Weis
UID:SM-B2489@rptfv.de
PRIORITY:5
SEQUENCE:0
CATEGORIES:SPORT
DTSTAMP:20260425T153122
BEGIN:VALARM
ACTION:DISPLAY
TRIGGER:-PT2H
END:VALARM
END:VEVENT
BEGIN:VEVENT
CLASS:PUBLIC
DTSTART:20260905T113000Z
DURATION:PT2H30M
STATUS:CONFIRMED
SUMMARY:MJC Tischfußball Trier 2 vs. MJC Tischfußball Trier 1
DESCRIPTION:RPTFV Landesliga 2026 (4. Spieltag)
LOCATION:BBW Heinrich Haus Neuwied, Stiftsstr. 1, 56566 Neuwied-Heimbach-Weis
UID:SM-B2495@rptfv.de
PRIORITY:5
SEQUENCE:0
CATEGORIES:SPORT
DTSTAMP:20260425T153122
BEGIN:VALARM
ACTION:DISPLAY
TRIGGER:-PT2H
END:VALARM
END:VEVENT
BEGIN:VEVENT
CLASS:PUBLIC
DTSTART:20260905T140000Z
DURATION:PT2H30M
STATUS:CONFIRMED
SUMMARY:MJC Tischfußball Trier 2 vs. DJK Andernach
DESCRIPTION:RPTFV Landesliga 2026 (4. Spieltag)
LOCATION:BBW Heinrich Haus Neuwied, Stiftsstr. 1, 56566 Neuwied-Heimbach-Weis
UID:SM-B2499@rptfv.de
PRIORITY:5
SEQUENCE:0
CATEGORIES:SPORT
DTSTAMP:20260425T153122
BEGIN:VALARM
ACTION:DISPLAY
TRIGGER:-PT2H
END:VALARM
END:VEVENT
BEGIN:VEVENT
CLASS:PUBLIC
DTSTART:20261004T090000Z
DURATION:PT2H30M
STATUS:CONFIRMED
SUMMARY:MJC Tischfußball Trier 2 vs. Wasgau Shooters Pirmasens
DESCRIPTION:RPTFV Landesliga 2026 (5. Spieltag)
LOCATION:Sportanlage am Römersprudel Trier, Peter-Scholzen-Str. 88, 54296 Trier
UID:SM-B2505@rptfv.de
PRIORITY:5
SEQUENCE:0
CATEGORIES:SPORT
DTSTAMP:20260425T153122
BEGIN:VALARM
ACTION:DISPLAY
TRIGGER:-PT2H
END:VALARM
END:VEVENT
BEGIN:VEVENT
CLASS:PUBLIC
DTSTART:20261004T113000Z
DURATION:PT2H30M
STATUS:CONFIRMED
SUMMARY:MJC Tischfußball Trier 2 vs. Tischfußball Mannheim 1
DESCRIPTION:RPTFV Landesliga 2026 (5. Spieltag)
LOCATION:Sportanlage am Römersprudel Trier, Peter-Scholzen-Str. 88, 54296 Trier
UID:SM-B2510@rptfv.de
PRIORITY:5
SEQUENCE:0
CATEGORIES:SPORT
DTSTAMP:20260425T153122
BEGIN:VALARM
ACTION:DISPLAY
TRIGGER:-PT2H
END:VALARM
END:VEVENT
BEGIN:VEVENT
CLASS:PUBLIC
DTSTART:20261004T140000Z
DURATION:PT2H30M
STATUS:CONFIRMED
SUMMARY:MJC Tischfußball Trier 2 vs. Tischfußball Mannheim 2
DESCRIPTION:RPTFV Landesliga 2026 (5. Spieltag)
LOCATION:Sportanlage am Römersprudel Trier, Peter-Scholzen-Str. 88, 54296 Trier
UID:SM-B2515@rptfv.de
PRIORITY:5
SEQUENCE:0
CATEGORIES:SPORT
DTSTAMP:20260425T153122
BEGIN:VALARM
ACTION:DISPLAY
TRIGGER:-PT2H
END:VALARM
END:VEVENT
BEGIN:VEVENT
CLASS:PUBLIC
DTSTART:20261024T090000Z
DURATION:PT2H30M
STATUS:CONFIRMED
SUMMARY:MJC Tischfußball Trier 2 vs. TFBS Koblenz 2
DESCRIPTION:RPTFV Landesliga 2026 (6. Spieltag)
LOCATION:Pommerbachschule Kaisersesch, Im Haag, 56759 Kaisersesch
UID:SM-B2522@rptfv.de
PRIORITY:5
SEQUENCE:0
CATEGORIES:SPORT
DTSTAMP:20260425T153122
BEGIN:VALARM
ACTION:DISPLAY
TRIGGER:-PT2H
END:VALARM
END:VEVENT
BEGIN:VEVENT
CLASS:PUBLIC
DTSTART:20261024T113000Z
DURATION:PT2H30M
STATUS:CONFIRMED
SUMMARY:MJC Tischfußball Trier 2 vs. 1. Kicker Club Kaiserslautern 2
DESCRIPTION:RPTFV Landesliga 2026 (6. Spieltag)
LOCATION:Pommerbachschule Kaisersesch, Im Haag, 56759 Kaisersesch
UID:SM-B2527@rptfv.de
PRIORITY:5
SEQUENCE:0
CATEGORIES:SPORT
DTSTAMP:20260425T153122
BEGIN:VALARM
ACTION:DISPLAY
TRIGGER:-PT2H
END:VALARM
END:VEVENT
BEGIN:VEVENT
CLASS:PUBLIC
DTSTART:20261024T140000Z
DURATION:PT2H30M
STATUS:CONFIRMED
SUMMARY:MJC Tischfußball Trier 2 vs. Altricher Soccer Club
DESCRIPTION:RPTFV Landesliga 2026 (6. Spieltag)
LOCATION:Pommerbachschule Kaisersesch, Im Haag, 56759 Kaisersesch
UID:SM-B2532@rptfv.de
PRIORITY:5
SEQUENCE:0
CATEGORIES:SPORT
DTSTAMP:20260425T153122
BEGIN:VALARM
ACTION:DISPLAY
TRIGGER:-PT2H
END:VALARM
END:VEVENT
END:VCALENDAR
